BEGIN:VCALENDAR
VERSION:2.0
PRODID:-//VILA - Blog - ECPv4.5.12.2//NONSGML v1.0//EN
CALSCALE:GREGORIAN
METHOD:PUBLISH
X-WR-CALNAME:VILA - Blog
X-ORIGINAL-URL:https://blog.livrariadavila.com.br
X-WR-CALDESC:Events for VILA - Blog
BEGIN:VEVENT
DTSTART;TZID=America/Sao_Paulo:20250326T180000
DTEND;TZID=America/Sao_Paulo:20250326T210000
DTSTAMP:20260421T110325
CREATED:20250226T145228Z
LAST-MODIFIED:20250226T145228Z
UID:126347-1743012000-1743022800@blog.livrariadavila.com.br
SUMMARY:101 GRANDES VILÕES E VILÃS DA TELENOVELA BRASILEIRA - GIL MARCEL CORDEIRO - ED. ARTÊRA EDITORIAL
DESCRIPTION:O que Odete Roitman\, Carminha\, Flora\, Leôncio\, Nazaré\, Alexandre e Félix têm em comum? Além de serem maquiavélicos\, sedutores e inesquecíveis\, estão todos reunidos — e em pérfidas companhias — em 101 Grandes Vilões e Vilãs da Telenovela Brasileira\, o primeiro guia dedicado exclusivamente aos malvados da nossa teledramaturgia.Das figuras clássicas sempre lembradas aos antagonistas de tramas contemporâneas\, este livro oferece uma visão abrangente de uma galeria de perfis que fizeram história\, explorando sua relevância na memória e cultura do brasileiro. Descubra a relação única entre os intérpretes e seus personagens e reviva as vilanias\, frases icônicas\, cenas antológicas\, bastidores e curiosidades que consagraram cada um como nossos malvados favoritos da ficção.\n
URL:https://blog.livrariadavila.com.br/event/101-grandes-viloes-e-vilas-da-telenovela-brasileira-gil-marcel-cordeiro-ed-artera-editorial/
LOCATION:Avenida do Batel\, nº 1868 – Loja 314 piso L3\, Curitiba\, Paraná\, 80420-090\, Brasil
GEO:-25.443012;-49.2899507
X-APPLE-STRUCTURED-LOCATION;VALUE=URI;X-ADDRESS=Avenida do Batel nº 1868 – Loja 314 piso L3 Curitiba Paraná 80420-090 Brasil;X-APPLE-RADIUS=500;X-TITLE=Avenida do Batel\, nº 1868 – Loja 314 piso L3:geo:-49.2899507,-25.443012
CATEGORIES:SESSÕES DE AUTÓGRAFOS
END:VEVENT
END:VCALENDAR