BEGIN:VCALENDAR
VERSION:2.0
PRODID:-//VILA - Blog - ECPv4.5.12.2//NONSGML v1.0//EN
CALSCALE:GREGORIAN
METHOD:PUBLISH
X-WR-CALNAME:VILA - Blog
X-ORIGINAL-URL:https://blog.livrariadavila.com.br
X-WR-CALDESC:Events for VILA - Blog
BEGIN:VEVENT
DTSTART;TZID=America/Sao_Paulo:20180930T150000
DTEND;TZID=America/Sao_Paulo:20180930T160000
DTSTAMP:20260424T034602
CREATED:20180830T165357Z
LAST-MODIFIED:20180830T165431Z
UID:22140-1538319600-1538323200@blog.livrariadavila.com.br
SUMMARY:Atividade infantil: Meu livro de formas - no oceano
DESCRIPTION: Venha conhecer essa divertida história e confeccionar colares do fundo do mar! \nApoio Vergara & Riba \nEvento gratuito \n
URL:https://blog.livrariadavila.com.br/event/22140/
CATEGORIES:ATIVIDADES INFANTIS
END:VEVENT
END:VCALENDAR