BEGIN:VCALENDAR
VERSION:2.0
PRODID:-//VILA - Blog - ECPv4.5.12.2//NONSGML v1.0//EN
CALSCALE:GREGORIAN
METHOD:PUBLISH
X-WR-CALNAME:VILA - Blog
X-ORIGINAL-URL:https://blog.livrariadavila.com.br
X-WR-CALDESC:Events for VILA - Blog
BEGIN:VEVENT
DTSTART;TZID=America/Sao_Paulo:20181020T150000
DTEND;TZID=America/Sao_Paulo:20181020T180000
DTSTAMP:20260423T063630
CREATED:20180920T173600Z
LAST-MODIFIED:20180920T173626Z
UID:22553-1540047600-1540058400@blog.livrariadavila.com.br
SUMMARY:As humanidades sitiadas : a filosofia no ensino médio do Brasil e da Espanha
DESCRIPTION: A obra discute a natureza do ensino de Filosofia\, no ensino médio\, e compara as realidades de Brasil e Espanha. A pesquisa apresenta informação e traz à luz a indicação de que é necessário entender os porquês das disciplinas inseridas nos currículos escolares\, e a quem elas servem. Enveredar por essa pesquisa é fundamental para entender os caminhos das disciplinas escolares\, como se estruturam\, as convergências e divergências em relação às outras realidades. É um texto fundamental também para quem estuda Educação. \nDe Maria Fernanda Alves Garcia Montero \nEd. Porto de Idéias \n
URL:https://blog.livrariadavila.com.br/event/22553/
LOCATION:Rua Fradique Coutinho\, 915 - Pinheiros\, São Paulo\, São Paulo\, 05416-011\, Brasil
GEO:-23.5592934;-46.6892019
X-APPLE-STRUCTURED-LOCATION;VALUE=URI;X-ADDRESS=Rua Fradique Coutinho 915 - Pinheiros São Paulo São Paulo 05416-011 Brasil;X-APPLE-RADIUS=500;X-TITLE=Rua Fradique Coutinho\, 915 - Pinheiros:geo:-46.6892019,-23.5592934
CATEGORIES:LANÇAMENTOS,SESSÕES DE AUTÓGRAFOS
END:VEVENT
END:VCALENDAR