BEGIN:VCALENDAR
VERSION:2.0
PRODID:-//VILA - Blog - ECPv4.5.12.2//NONSGML v1.0//EN
CALSCALE:GREGORIAN
METHOD:PUBLISH
X-WR-CALNAME:VILA - Blog
X-ORIGINAL-URL:https://blog.livrariadavila.com.br
X-WR-CALDESC:Events for VILA - Blog
BEGIN:VEVENT
DTSTART;TZID=America/Sao_Paulo:20181113T190000
DTEND;TZID=America/Sao_Paulo:20181113T213000
DTSTAMP:20260420T051719
CREATED:20181023T130704Z
LAST-MODIFIED:20181023T130814Z
UID:23163-1542135600-1542144600@blog.livrariadavila.com.br
SUMMARY:Desigualdades urbanas - segregação\, alteridade e tensões em cidades brasileiras
DESCRIPTION:Este livro reúne textos que abordam a questão urbana e as diferentes formas de desigualdade\, discriminação e intolerância presentes nas cidades brasileiras\, apontando formas possíveis para seu enfrentamento. Os capítulos tiveram origem em trabalhos acadêmicos produzidos entre 2010 e 2016\, sob a orientação da profa. Maura Véras\, e colocam em destaque os desa¬os à superação das desigualdades sociais e à busca da cidadania. As cidades são retratadas pelas manifestações cotidianas dos que nelas residem ou por elas transitam\, das culturas que ali convivem\, resistindo e rea¬rmando identidades e territorialidades\, tanto de moradores antigos\, como de migrantes recém-chegados. \nDe Maura Pardini Bicudo Véras (org.) \nPaco Editorial \n
URL:https://blog.livrariadavila.com.br/event/23163/
LOCATION:Av. Higienópolis\, 618 – Higienópolis\, São Paulo\, SP\, 01238-000\, Brasil
GEO:-23.542049;-46.6577148
X-APPLE-STRUCTURED-LOCATION;VALUE=URI;X-ADDRESS=Av. Higienópolis 618 – Higienópolis São Paulo SP 01238-000 Brasil;X-APPLE-RADIUS=500;X-TITLE=Av. Higienópolis\, 618 – Higienópolis:geo:-46.6577148,-23.542049
CATEGORIES:LANÇAMENTOS,SESSÕES DE AUTÓGRAFOS
END:VEVENT
END:VCALENDAR