BEGIN:VCALENDAR
VERSION:2.0
PRODID:-//VILA - Blog - ECPv4.5.12.2//NONSGML v1.0//EN
CALSCALE:GREGORIAN
METHOD:PUBLISH
X-WR-CALNAME:VILA - Blog
X-ORIGINAL-URL:https://blog.livrariadavila.com.br
X-WR-CALDESC:Events for VILA - Blog
BEGIN:VEVENT
DTSTART;TZID=America/Sao_Paulo:20260619T180000
DTEND;TZID=America/Sao_Paulo:20260619T210000
DTSTAMP:20260423T170455
CREATED:20260422T210054Z
LAST-MODIFIED:20260422T210054Z
UID:133554-1781892000-1781902800@blog.livrariadavila.com.br
SUMMARY:A AMIGA ESTADUNIDENSE DA ABAYOMI - MARIA ALINE SOARES E MARLA GOINS - ED. ACADEMIA PERIFÉRICA DE LETRAS
DESCRIPTION: \nO Baú de Bonecos Orixás da Abayomi\nAbayomi está prestes a viver um dia inesquecível: o seu aniversário! 🎂 E o presente mais especial que recebe é um conjunto de lindos bonecos de pano inspirados nos orixás\, feitos com todo carinho\, retalhos coloridos e cheios de história — cada um representando as características\, cores e simbologias de divindades como Oxum\, Iemanjá\, Xangô\, Oxalá\, Iansã e Nanã. 🧵⚡\nEncantada\, ela decide usar esses bonecos como peça central da decoração da sua festa\, transformando a comemoração num ambiente lindo\, alegre e repleto de significado. O que parecia apenas brinquedos\, torna-se a alma da celebração\, apresentando aos amigos e familiares a riqueza da cultura afro-brasileira de forma leve\, divertida e visualmente encantadora. 🎈✨\nMais do que uma história de festa e brincadeira\, o livro é uma poderosa ferramenta de educação antiracista e valorização da identidade. Ao trazer as origens dos bonecos Abayomi — símbolos de afeto e resistência — e a mitologia dos orixás\, a obra promove o respeito à diversidade e o orgulho das raízes\, cumprindo integralmente as diretrizes da Lei 10.639/2003\, que tornou obrigatório o ensino de história e cultura afro-brasileira nas escolas\, e da Lei 11.645/2008\, que inclui também a temática indígena. 📜🌍\nCom linguagem acessível\, ilustrações vibrantes e uma narrativa que mistura magia e realidade\, O Baú de Bonecos Orixás da Abayomi mostra como é possível unir celebração\, beleza e aprendizado\, incentivando crianças\, famílias e educadores a transformarem momentos do dia a dia em oportunidades de construir uma sociedade mais justa\, plural e acolhedora. ❤️🌿\nUma festa que encanta os olhos e aquece o coração\, ensinando que a nossa história é feita de muitas cores\, crenças e belezas! 🎉 \n
URL:https://blog.livrariadavila.com.br/event/a-amiga-estadunidense-da-abayomi-maria-aline-soares-e-marla-goins-ed-academia-periferica-de-letras/
LOCATION:Av. Juscelino Kubitschek\, 2041 - Itaim Bibi\, São Paulo\, São Paulo\, 04543-011\, Brasil
GEO:-23.5914219;-46.6898224
X-APPLE-STRUCTURED-LOCATION;VALUE=URI;X-ADDRESS=Av. Juscelino Kubitschek 2041 - Itaim Bibi São Paulo São Paulo 04543-011 Brasil;X-APPLE-RADIUS=500;X-TITLE=Av. Juscelino Kubitschek\, 2041 - Itaim Bibi:geo:-46.6898224,-23.5914219
CATEGORIES:LANÇAMENTOS,SESSÕES DE AUTÓGRAFOS
END:VEVENT
END:VCALENDAR