BEGIN:VCALENDAR
VERSION:2.0
PRODID:-//VILA - Blog - ECPv4.5.12.2//NONSGML v1.0//EN
CALSCALE:GREGORIAN
METHOD:PUBLISH
X-WR-CALNAME:VILA - Blog
X-ORIGINAL-URL:https://blog.livrariadavila.com.br
X-WR-CALDESC:Events for VILA - Blog
BEGIN:VEVENT
DTSTART;TZID=America/Sao_Paulo:20181205T190000
DTEND;TZID=America/Sao_Paulo:20181205T213000
DTSTAMP:20260421T071958
CREATED:20181128T152951Z
LAST-MODIFIED:20181128T152951Z
UID:23744-1544036400-1544045400@blog.livrariadavila.com.br
SUMMARY:A batalha dos poderes
DESCRIPTION: Em A batalha dos poderes\, o jurista e cientista político Oscar Vilhena Vieira analisa o mal-estar constitucional instalado desde 2013\, quando uma série de manifestações revelaram as fragilidades de um sistema político que parecia consolidado. As disputas se tornaram mais polarizadas\, e a sociedade\, mais intolerante e conflitiva. A política e o direito passaram a ser utilizados\, cada vez mais\, como armas para debilitar adversários. De um lado\, houve um choque entre o presidencialismo de coalizão\, que foi se degenerando ao longo do tempo\, e as instituições de aplicação da lei\, que foram se tornando mais autônomas e ambiciosas. De outro\, os direitos fundamentais e todo um conjunto de políticas públicas\, que vinham induzindo inúmeras transformações positivas na sociedade brasileira nas últimas décadas\, viram-se subitamente ameaçados por uma forte recessão e um crescente descontrole fiscal\, em grande medida ligado a ampliação de privilégios de natureza regressiva. \nDe Oscar Vilhena Vieira \nEd. Companhia das Letras \nHaverá bate-papo com o autor \n
URL:https://blog.livrariadavila.com.br/event/a-batalha-dos-poderes/
CATEGORIES:BATE-PAPO,LANÇAMENTOS,SESSÕES DE AUTÓGRAFOS
END:VEVENT
END:VCALENDAR