BEGIN:VCALENDAR
VERSION:2.0
PRODID:-//VILA - Blog - ECPv4.5.12.2//NONSGML v1.0//EN
CALSCALE:GREGORIAN
METHOD:PUBLISH
X-WR-CALNAME:VILA - Blog
X-ORIGINAL-URL:https://blog.livrariadavila.com.br
X-WR-CALDESC:Events for VILA - Blog
BEGIN:VEVENT
DTSTART;TZID=America/Sao_Paulo:20181121T183000
DTEND;TZID=America/Sao_Paulo:20181121T213000
DTSTAMP:20260420T134123
CREATED:20181106T174606Z
LAST-MODIFIED:20181106T174606Z
UID:23376-1542825000-1542835800@blog.livrariadavila.com.br
SUMMARY:A capacidade civil e o estatuto da pessoa com deficiência - Reflexos patrimoniais decorrentes do negócio jurídico firmado pela pessoa com deficiência mental
DESCRIPTION:Esta obra tem por objetivo promover a comparação entre a teoria das incapacidades constantes do Código Civil de 2002 e a nova teoria das incapacidades\, à luz do Estatuto da Pessoa com Deficiência\, trazendo à baila os reflexos patrimoniais decorrentes do levantamento desse véu protetivo. \nDe Viviane Cristina de Souza Limongi \nEd. Lumen Juris \n  \n
URL:https://blog.livrariadavila.com.br/event/a-capacidade-civil-e-o-estatuto-da-pessoa-com-deficiencia-reflexos-patrimoniais-decorrentes-do-negocio-juridico-firmado-pela-pessoa-com-deficiencia-mental/
CATEGORIES:LANÇAMENTOS,SESSÕES DE AUTÓGRAFOS
END:VEVENT
END:VCALENDAR