BEGIN:VCALENDAR
VERSION:2.0
PRODID:-//VILA - Blog - ECPv4.5.12.2//NONSGML v1.0//EN
CALSCALE:GREGORIAN
METHOD:PUBLISH
X-WR-CALNAME:VILA - Blog
X-ORIGINAL-URL:https://blog.livrariadavila.com.br
X-WR-CALDESC:Events for VILA - Blog
BEGIN:VEVENT
DTSTART;TZID=America/Sao_Paulo:20221107T180000
DTEND;TZID=America/Sao_Paulo:20221107T210000
DTSTAMP:20260422T031735
CREATED:20221024T172531Z
LAST-MODIFIED:20221024T172531Z
UID:115763-1667844000-1667854800@blog.livrariadavila.com.br
SUMMARY:A CERÂMICA DO POVO PAITER SURUÍ DE RONDÔNIA - JEAN-JACQUES ARMAND VIDAL - PUBLICAÇÕES BBM
DESCRIPTION: \n  \nEsta obra é o resultado de um trabalho de campo sobre a cerâmica elaborada pelo povo Paiter Suruí de Rondônia. A investigação se fez através de levantamento etnográfico\, registro fotográfico e vídeo dos procedimentos utilizados por esse povo para fabricar suas peças\, verificando a localização da matéria-prima\, procedimentos de extração desse material\, possíveis temperos agregados à argila\, técnicas de modelagem\, queima\, tratamento de superfície e função utilitária e ritualística das peças\, com ênfase nas relações sociais envolvidas nesse processo.\nEste livro propõe-se também a recolher e documentar peças cerâmicas contemporâneas\, com a finalidade de comparar a produção atual com as coleções Suruís dos anos 1970 e 1980 do século xx\, do acervo particular da antropóloga Betty Mindlin\, e de peças elaboradas em 2010 na aldeia Gãbgir\, de modo a verificar\, de um lado\, a continuidade dos processos tecnológicos e\, de outro lado\, as mudanças culturais\, em termos de morfologia\, volume\, acabamento de superfície\, além de observar se fatos históricos\, como os contatos com os não indígenas\, influíram ou alteraram a produção cerâmica em relação aos processos de manufatura\, implementos utilizados\, técnicas empregadas\, usos e interferências nas relações sociais. \n
URL:https://blog.livrariadavila.com.br/event/a-ceramica-do-povo-paiter-surui-de-rondonia-jean-jacques-armand-vidal-publicacoes-bbm/
LOCATION:Alameda Lorena\, 1501\, São Paulo\, São Paulo\, 01424-005\, Brasil
END:VEVENT
END:VCALENDAR