BEGIN:VCALENDAR
VERSION:2.0
PRODID:-//VILA - Blog - ECPv4.5.12.2//NONSGML v1.0//EN
CALSCALE:GREGORIAN
METHOD:PUBLISH
X-WR-CALNAME:VILA - Blog
X-ORIGINAL-URL:https://blog.livrariadavila.com.br
X-WR-CALDESC:Events for VILA - Blog
BEGIN:VEVENT
DTSTART;TZID=America/Sao_Paulo:20221108T180000
DTEND;TZID=America/Sao_Paulo:20221108T210000
DTSTAMP:20260422T201530
CREATED:20221027T134539Z
LAST-MODIFIED:20221027T134539Z
UID:115804-1667930400-1667941200@blog.livrariadavila.com.br
SUMMARY:A CHAVE QUÂNTICA - ELIANE XAVIER - INDEPENDENTE
DESCRIPTION: \nVicky é uma adolescente que não aguenta mais\na vida. Não gosta do próprio corpo\, se acha\ninadequada\, tem dificuldades na vida social\,\nacredita que os colegas não gostam dela\, briga\ncom os pais\, e neste momento difícil\, sai em busca\nde respostas para suas questões. Em meio a essa\nbusca\, Vicky desaparece sem deixar vestígios.\nAna e Pedro são os seus melhores amigos e\, na\nânsia de encontrar Vicky\, se tornam os principais\ndetetives para localizar o seu paradeiro.\nÉ uma trama de suspense. Em suas investigações\,\nAna e Pedro descobrem que a física quântica\ntem um papel crucial para desvendarem esse\nmistério.\nProfessor Marcus é o facilitador deste\naprendizado e vai explicando\, de modo muito\nclaro e simples\, os principais conceitos da\nteoria quântica para os dois alunos. Ana e Pedro\njá começam a observar a física quântica na\nvida prática e assim conseguem as pistas que\nprecisam.\nComo a física quântica explica o nosso universo\ne quem somos nós dentro dele? Onde estão as\nverdadeiras soluções para os problemas de\nVicky? É isso que iremos descobrir ao final\ndessa aventura. \n
URL:https://blog.livrariadavila.com.br/event/a-chave-quantica-eliane-xavier-independente/
LOCATION:Avenida do Batel\, nº 1868 – Loja 314 piso L3\, Curitiba\, Paraná\, 80420-090\, Brasil
GEO:-25.443012;-49.2899507
X-APPLE-STRUCTURED-LOCATION;VALUE=URI;X-ADDRESS=Avenida do Batel nº 1868 – Loja 314 piso L3 Curitiba Paraná 80420-090 Brasil;X-APPLE-RADIUS=500;X-TITLE=Avenida do Batel\, nº 1868 – Loja 314 piso L3:geo:-49.2899507,-25.443012
END:VEVENT
END:VCALENDAR