BEGIN:VCALENDAR
VERSION:2.0
PRODID:-//VILA - Blog - ECPv4.5.12.2//NONSGML v1.0//EN
CALSCALE:GREGORIAN
METHOD:PUBLISH
X-WR-CALNAME:VILA - Blog
X-ORIGINAL-URL:https://blog.livrariadavila.com.br
X-WR-CALDESC:Events for VILA - Blog
BEGIN:VEVENT
DTSTART;TZID=America/Sao_Paulo:20181204T183000
DTEND;TZID=America/Sao_Paulo:20181204T213000
DTSTAMP:20260421T123359
CREATED:20181203T135030Z
LAST-MODIFIED:20181203T135030Z
UID:23979-1543948200-1543959000@blog.livrariadavila.com.br
SUMMARY:A ciência da dor - Sobre fibromialgia e outras síndromes dolorosas
DESCRIPTION: Neste livro\, Pedro Ming Azevedo apresenta um quadro geral das síndromes dolorosas crônicas\, especialmente a fibromialgia. Na primeira parte – Fisiopatologia –\, o autor introduz a história das síndromes de sensibilidade\, diagnóstico da dor sistêmica\, os subgrupos da fibromialgia\, as bases genéticas e psicológicas desse tipo de sofrimento físico. Na segunda parte – Tratamento –\, o autor apresenta os tratos medicamentosos\, os cuidados e as atividades preventivas para as doenças da dor. Nos apêndices\, o livro oferece testes e questionários de avaliação para o paciente fibromiálgico. \nDe Pedro Ming Azevedo \nEd. Unesp \nHaverá bate-papo com o autor \n
URL:https://blog.livrariadavila.com.br/event/a-ciencia-da-dor-sobre-fibromialgia-e-outras-sindromes-dolorosas-2/
LOCATION:Avenida do Batel\, nº 1868 – Loja 314 piso L3\, Curitiba\, Paraná\, 80420-090\, Brasil
GEO:-25.443012;-49.2899507
X-APPLE-STRUCTURED-LOCATION;VALUE=URI;X-ADDRESS=Avenida do Batel nº 1868 – Loja 314 piso L3 Curitiba Paraná 80420-090 Brasil;X-APPLE-RADIUS=500;X-TITLE=Avenida do Batel\, nº 1868 – Loja 314 piso L3:geo:-49.2899507,-25.443012
CATEGORIES:BATE-PAPO,LANÇAMENTOS,SESSÕES DE AUTÓGRAFOS
END:VEVENT
END:VCALENDAR