BEGIN:VCALENDAR
VERSION:2.0
PRODID:-//VILA - Blog - ECPv4.5.12.2//NONSGML v1.0//EN
CALSCALE:GREGORIAN
METHOD:PUBLISH
X-WR-CALNAME:VILA - Blog
X-ORIGINAL-URL:https://blog.livrariadavila.com.br
X-WR-CALDESC:Events for VILA - Blog
BEGIN:VEVENT
DTSTART;TZID=America/Sao_Paulo:20181124T150000
DTEND;TZID=America/Sao_Paulo:20181124T180000
DTSTAMP:20260420T065959
CREATED:20181023T131614Z
LAST-MODIFIED:20181023T131614Z
UID:23167-1543071600-1543082400@blog.livrariadavila.com.br
SUMMARY:A ciência da dor - Sobre fibromialgia e outras síndromes dolorosas
DESCRIPTION: Neste livro\, Pedro Ming Azevedo apresenta um quadro geral das síndromes dolorosas crônicas\, especialmente a fibromialgia. Na primeira parte – Fisiopatologia –\, o autor introduz a história das síndromes de sensibilidade\, diagnóstico da dor sistêmica\, os subgrupos da fibromialgia\, as bases genéticas e psicológicas desse tipo de sofrimento físico. Na segunda parte – Tratamento –\, o autor apresenta os tratos medicamentosos\, os cuidados e as atividades preventivas para as doenças da dor. Nos apêndices\, o livro oferece testes e questionários de avaliação para o paciente fibromiálgico. \nDe Pedro Ming Azevedo  \nEd. Unesp \n
URL:https://blog.livrariadavila.com.br/event/a-ciencia-da-dor-sobre-fibromialgia-e-outras-sindromes-dolorosas/
LOCATION:Av. Higienópolis\, 618 – Higienópolis\, São Paulo\, SP\, 01238-000\, Brasil
GEO:-23.542049;-46.6577148
X-APPLE-STRUCTURED-LOCATION;VALUE=URI;X-ADDRESS=Av. Higienópolis 618 – Higienópolis São Paulo SP 01238-000 Brasil;X-APPLE-RADIUS=500;X-TITLE=Av. Higienópolis\, 618 – Higienópolis:geo:-46.6577148,-23.542049
CATEGORIES:LANÇAMENTOS,SESSÕES DE AUTÓGRAFOS
END:VEVENT
END:VCALENDAR