BEGIN:VCALENDAR
VERSION:2.0
PRODID:-//VILA - Blog - ECPv4.5.12.2//NONSGML v1.0//EN
CALSCALE:GREGORIAN
METHOD:PUBLISH
X-WR-CALNAME:VILA - Blog
X-ORIGINAL-URL:https://blog.livrariadavila.com.br
X-WR-CALDESC:Events for VILA - Blog
BEGIN:VEVENT
DTSTART;TZID=America/Sao_Paulo:20181213T183000
DTEND;TZID=America/Sao_Paulo:20181213T213000
DTSTAMP:20260421T130157
CREATED:20181106T165124Z
LAST-MODIFIED:20181128T132524Z
UID:23341-1544725800-1544736600@blog.livrariadavila.com.br
SUMMARY:A classe média no espelho - Sua história\, seus sonhos e ilusões\, sua realidade
DESCRIPTION:Em sua primeira obra inédita depois do sucesso de A elite do atraso\, de 2017\, Jessé Souza se dedica a compreender a classe média brasileira. \nVisão original e inovadora dessa classe fundamental da sociedade\, o livro conta com um imenso e rico material\, resultado de centenas de entrevistas realizadas com pessoas das mais variadas frações da classe média entre 2015 e 2018\, em diversas cidades brasileiras. \nDe Jessé de Souza \nEd. Estação Brasil \n  \n
URL:https://blog.livrariadavila.com.br/event/a-classe-media-no-espelho-sua-historia-seus-sonhos-e-ilusoes-sua-realidade/
LOCATION:Av. Higienópolis\, 618 – Higienópolis\, São Paulo\, SP\, 01238-000\, Brasil
GEO:-23.542049;-46.6577148
X-APPLE-STRUCTURED-LOCATION;VALUE=URI;X-ADDRESS=Av. Higienópolis 618 – Higienópolis São Paulo SP 01238-000 Brasil;X-APPLE-RADIUS=500;X-TITLE=Av. Higienópolis\, 618 – Higienópolis:geo:-46.6577148,-23.542049
CATEGORIES:LANÇAMENTOS,SESSÕES DE AUTÓGRAFOS
END:VEVENT
END:VCALENDAR