BEGIN:VCALENDAR
VERSION:2.0
PRODID:-//VILA - Blog - ECPv4.5.12.2//NONSGML v1.0//EN
CALSCALE:GREGORIAN
METHOD:PUBLISH
X-WR-CALNAME:VILA - Blog
X-ORIGINAL-URL:https://blog.livrariadavila.com.br
X-WR-CALDESC:Events for VILA - Blog
BEGIN:VEVENT
DTSTART;TZID=America/Sao_Paulo:20230929T180000
DTEND;TZID=America/Sao_Paulo:20230929T210000
DTSTAMP:20260420T204804
CREATED:20230926T141603Z
LAST-MODIFIED:20230926T141603Z
UID:119598-1696010400-1696021200@blog.livrariadavila.com.br
SUMMARY:A CURA DE UMA MÃE SOLO - ALLANA TOBITA – ED. YESBOOKS
DESCRIPTION: \n  \nEmbarque em uma viagem emocionante e inspiradora através dos olhos de uma mulher que descobre os profundos alcances da maternidade solo. \nAo enfrentar uma gestação não planejada\, Allana confronta não apenas as mudanças físicas\, mas uma profunda transformação de mente\, alma e coração. \nA maternidade se revela como uma potente cura espiritual e pessoal\, conectando-a à sua autenticidade de maneiras que nenhum outro processo ou terapia poderia alcançar. \nMas\, não é apenas uma história sobre se tornar mãe. É sobre a arte de amar incondicionalmente\, de se tornar resiliente diante das adversidades\, de aprender o altruísmo mais puro e de se redescobrir em meio à vulnerabilidade. \nA autora desvenda como a maternidade solo moldou sua jornada\, eliminando suas fragilidades\, gatilhos emocionais e pensamentos inseguros\, muitas vezes amplificados por um mundo que nem sempre compreende a escolha de criar um filho sozinha. \nEsta é uma visão da maternidade em sua forma mais autêntica\, ao amor inabalável e à capacidade de uma mulher de se reinventar. Um relato sincero e poderoso\, que ressoará em todos que buscam força em meio à incerteza e encontraram beleza no ato de recomeçar. \nO desafio da maternidade foi o gatilho e o início da entrega de sua vida a Cristo\, vivendo os planos e propósitos que Deus tinha para ela. \nA partir disso\, ela descobriu seu verdadeiro propósito e a importante missão de ajudar mulheres a serem transformadas pelo poder e amor de Deus. \n  \n  \n
URL:https://blog.livrariadavila.com.br/event/a-cura-de-uma-mae-solo-allana-tobita-ed-yesbooks/
LOCATION:Av. Juscelino Kubitschek\, 2041 - Itaim Bibi\, São Paulo\, São Paulo\, 04543-011\, Brasil
GEO:-23.5914219;-46.6898224
X-APPLE-STRUCTURED-LOCATION;VALUE=URI;X-ADDRESS=Av. Juscelino Kubitschek 2041 - Itaim Bibi São Paulo São Paulo 04543-011 Brasil;X-APPLE-RADIUS=500;X-TITLE=Av. Juscelino Kubitschek\, 2041 - Itaim Bibi:geo:-46.6898224,-23.5914219
END:VEVENT
END:VCALENDAR