BEGIN:VCALENDAR
VERSION:2.0
PRODID:-//VILA - Blog - ECPv4.5.12.2//NONSGML v1.0//EN
CALSCALE:GREGORIAN
METHOD:PUBLISH
X-WR-CALNAME:VILA - Blog
X-ORIGINAL-URL:https://blog.livrariadavila.com.br
X-WR-CALDESC:Events for VILA - Blog
BEGIN:VEVENT
DTSTART;TZID=America/Sao_Paulo:20190424T183000
DTEND;TZID=America/Sao_Paulo:20190424T213000
DTSTAMP:20260421T072055
CREATED:20190328T142113Z
LAST-MODIFIED:20190328T142113Z
UID:95873-1556130600-1556141400@blog.livrariadavila.com.br
SUMMARY:A escritura na era da indeterminação
DESCRIPTION: Transitando muito além das fronteiras estabelecidas pelos estudos literários\, a crítica genética\, o estudo da gênese de um texto\, já por si só levanta questões que vão além dos campos conhecidos\, e costumeiramente percorridos\, pelos aficionados das artes\, em particular da literatura. Guiados por Philippe Willemart\, esse mergulho no inaudito dos processos de criação é ainda mais intenso. Nesta oba\, o estudioso volta seu olhar atento às complexas desrazões e rasuras dos manuscritos de Proust\, Joyce\, Bauchau e Murakami\, compondo uma obra reveladora (e renovadora) das múltiplas possibilidades de leitura e entendimento que toda grande obra engendra. \nDe Philippe Willemart \nEd. Perspectiva \n
URL:https://blog.livrariadavila.com.br/event/a-escritura-na-era-da-indeterminacao/
LOCATION:Rua Fradique Coutinho\, 915 - Pinheiros\, São Paulo\, São Paulo\, 05416-011\, Brasil
GEO:-23.5592934;-46.6892019
X-APPLE-STRUCTURED-LOCATION;VALUE=URI;X-ADDRESS=Rua Fradique Coutinho 915 - Pinheiros São Paulo São Paulo 05416-011 Brasil;X-APPLE-RADIUS=500;X-TITLE=Rua Fradique Coutinho\, 915 - Pinheiros:geo:-46.6892019,-23.5592934
CATEGORIES:LANÇAMENTOS,SESSÕES DE AUTÓGRAFOS
END:VEVENT
END:VCALENDAR