BEGIN:VCALENDAR
VERSION:2.0
PRODID:-//VILA - Blog - ECPv4.5.12.2//NONSGML v1.0//EN
CALSCALE:GREGORIAN
METHOD:PUBLISH
X-WR-CALNAME:VILA - Blog
X-ORIGINAL-URL:https://blog.livrariadavila.com.br
X-WR-CALDESC:Events for VILA - Blog
BEGIN:VEVENT
DTSTART;TZID=America/Sao_Paulo:20230930T180000
DTEND;TZID=America/Sao_Paulo:20230930T210000
DTSTAMP:20260421T064659
CREATED:20230925T163832Z
LAST-MODIFIED:20230925T163832Z
UID:119568-1696096800-1696107600@blog.livrariadavila.com.br
SUMMARY:A FUNÇÃO DO RITMO NA RELAÇÃO PAIS-BEBÊS: UMA VISÃO PSICANALÍTICA - MARTHA PEREIRA DE ALMEIRA PINEDO – ED. BLUCHER
DESCRIPTION:\n\n\n\n\n\nOriginalmente uma tese de mestrado\, defendida na PUC-SP\, este livro apresenta um texto bem escrito e elaborado\, autoral e original\, é um prazer lê-lo.Na primeira vez que li\, vivi uma experiência de encantamento diante de sua beleza estética. O bebê\, nosso maestro e professor\, surge com toda sua força e nos ensina a reger a orquestra e o ritmo do desenvolvimento emocional e simbólico na relação com o cuidador e o ambiente.Martha reproduz na estrutura do trabalho o método de observação de bebê proposto por Bick: em um primeiro momento as observações e depois as conjecturas e as teorizações.Apresenta relatos detalhados das observações de Pedro e Laura e\, em seguida\, o ritmo se entrelaça com a narratividade em três eixos: corporal\, vocal e lúdico.A partir do olhar e do encontro com a função do ritmo na relação pais-bebês\, podemos enriquecer nossa escuta e tomá-la como uma valiosa contribuição para justificar a importância do corpo na clínica psicanalítica.Convido o leitor a desfrutar dessa narrativa viva sobre o bebê\, seu corpo e seu ritmo!Maria Cecília Pereira da SilvaPsicanalista\, membro efetivo e analista didata da SBPSP\n\n\n\n\n
URL:https://blog.livrariadavila.com.br/event/a-funcao-do-ritmo-na-relacao-pais-bebes-uma-visao-psicanalitica-martha-pereira-de-almeira-pinedo-ed-blucher/
LOCATION:Alameda Lorena\, 1501\, São Paulo\, São Paulo\, 01424-005\, Brasil
END:VEVENT
END:VCALENDAR