BEGIN:VCALENDAR
VERSION:2.0
PRODID:-//VILA - Blog - ECPv4.5.12.2//NONSGML v1.0//EN
CALSCALE:GREGORIAN
METHOD:PUBLISH
X-WR-CALNAME:VILA - Blog
X-ORIGINAL-URL:https://blog.livrariadavila.com.br
X-WR-CALDESC:Events for VILA - Blog
BEGIN:VEVENT
DTSTART;TZID=America/Sao_Paulo:20240816T180000
DTEND;TZID=America/Sao_Paulo:20240816T210000
DTSTAMP:20260422T121215
CREATED:20240812T153003Z
LAST-MODIFIED:20240812T153030Z
UID:123697-1723831200-1723842000@blog.livrariadavila.com.br
SUMMARY:A JORNADA DE DAN SHYRO E O DESAFIO DAS TRÊS MONTANHAS - MICHELLE CARVALHO E GABRIEL NOGUEIRA – ED. INVERSO
DESCRIPTION: \n  \nNum recanto isolado do Japão\, a vila de Gawa testemunhou décadas de conflitos\, batalhas memoráveis e desolação. \nDan Shyro\, filho de um lendário combatente\, dedicava-se intensamente ao treinamento\, buscando tornar-se um guerreiro formidável. Contudo\, algo o impedia de alcançar seu pleno potencial. \nSeu mestre\, Zenshi Lee\, percebendo um talento latente em Dan Shyro\, propôs um desafio que mudaria para sempre o destino do jovem lutador. Juntos\, mestre e pupilo embarcariam em uma jornada cujo desfecho se revelaria crucial para a vida do jovem guerreiro. \nSerá que ele sairá vitorioso dessas batalhas contra os Tenebrosos\, ou sucumbirá diante de suas próprias limitações? Descubra\, nessa odisseia repleta de desafios e autodescobertas! \n
URL:https://blog.livrariadavila.com.br/event/a-jornada-de-dan-shyro-e-o-desafio-das-tres-montanhas-michelle-carvalho-e-gabriel-nogueira-ed-inverso/
LOCATION:Rua Fradique Coutinho\, 915 - Pinheiros\, São Paulo\, São Paulo\, 05416-011\, Brasil
GEO:-23.5592934;-46.6892019
X-APPLE-STRUCTURED-LOCATION;VALUE=URI;X-ADDRESS=Rua Fradique Coutinho 915 - Pinheiros São Paulo São Paulo 05416-011 Brasil;X-APPLE-RADIUS=500;X-TITLE=Rua Fradique Coutinho\, 915 - Pinheiros:geo:-46.6892019,-23.5592934
END:VEVENT
END:VCALENDAR