BEGIN:VCALENDAR
VERSION:2.0
PRODID:-//VILA - Blog - ECPv4.5.12.2//NONSGML v1.0//EN
CALSCALE:GREGORIAN
METHOD:PUBLISH
X-WR-CALNAME:VILA - Blog
X-ORIGINAL-URL:https://blog.livrariadavila.com.br
X-WR-CALDESC:Events for VILA - Blog
BEGIN:VEVENT
DTSTART;TZID=America/Sao_Paulo:20181020T170000
DTEND;TZID=America/Sao_Paulo:20181020T200000
DTSTAMP:20260422T105736
CREATED:20181001T190538Z
LAST-MODIFIED:20181001T190538Z
UID:22707-1540054800-1540065600@blog.livrariadavila.com.br
SUMMARY:A liberdade de ser quem você é
DESCRIPTION:O que você sente sobre si mesmo?\nVocê se sente feliz com quem é?\nQual é a relação que você tem com a pessoa mais importante da sua vida – você?\nVivemos em constante busca por amor. Amar e ser amados. Mas como será que anda sua relação de amor consigo mesmo? Olhar para si com olhos de cobrança\, culpa\, raiva e reprovação pode ser sua realidade hoje. Assim como já foi a nossa\, e de tantas outras pessoas. Por isso\, estamos aqui para caminhar ao seu lado nesse despertar da aceitação\, da motivação e do resgate daquele brilho no olhar. Com essa leitura\, novos caminhos se abrirão para que você encontre a liberdade de ser quem você é.\n“Transformar a forma como você se vê pode trazer um novo significado para a sua vida. Um mergulho para o seu interior trará cada vez mais respostas e estas serão um apoio para você reencontrar o seu caminho. Um caminho com mais felicidade\, harmonia e leveza. Se permita viver os ciclos da melhor transformação que você poderia ter. A liberdade de ser quem você é!” \nDe Juliana Goes e Kalina Juzwiak \nEd. Planeta \n
URL:https://blog.livrariadavila.com.br/event/a-liberdade-de-ser-quem-voce-e/
CATEGORIES:LANÇAMENTOS,SESSÕES DE AUTÓGRAFOS
END:VEVENT
END:VCALENDAR