BEGIN:VCALENDAR
VERSION:2.0
PRODID:-//VILA - Blog - ECPv4.5.12.2//NONSGML v1.0//EN
CALSCALE:GREGORIAN
METHOD:PUBLISH
X-WR-CALNAME:VILA - Blog
X-ORIGINAL-URL:https://blog.livrariadavila.com.br
X-WR-CALDESC:Events for VILA - Blog
BEGIN:VEVENT
DTSTART;TZID=America/Sao_Paulo:20181024T183000
DTEND;TZID=America/Sao_Paulo:20181024T213000
DTSTAMP:20260423T132058
CREATED:20180920T171747Z
LAST-MODIFIED:20180920T171747Z
UID:22544-1540405800-1540416600@blog.livrariadavila.com.br
SUMMARY:A Meta da Humanização: do atendimento à gestão
DESCRIPTION:Este livro oferece aos leitores um modelo de atendimento humanizado\, estabelecendo metas de maneira que o tratamento seja estruturado de modo a se tornar\, ao mesmo tempo\, eficaz e humanizado. o seu propósito é chamar a atenção para a necessidade de preencher\, tanto quanto possível\, as expectativas do paciente e trazer aos leitores uma proposta sistêmica do atendimento humanizado\, ou seja\, como indivíduos médicos\, enfermeiros e outros profissionais de saúde\, equipes e instituições de saúde devem conduzir suas ações de tratamento a partir da perspectiva das expectativas dos pacientes e seus familiares \nDe Marcelo Rabahi \nEd. DOC \n
URL:https://blog.livrariadavila.com.br/event/a-meta-da-humanizacao-do-atendimento-a-gestao/
CATEGORIES:LANÇAMENTOS,SESSÕES DE AUTÓGRAFOS
END:VEVENT
END:VCALENDAR