BEGIN:VCALENDAR
VERSION:2.0
PRODID:-//VILA - Blog - ECPv4.5.12.2//NONSGML v1.0//EN
CALSCALE:GREGORIAN
METHOD:PUBLISH
X-WR-CALNAME:VILA - Blog
X-ORIGINAL-URL:https://blog.livrariadavila.com.br
X-WR-CALDESC:Events for VILA - Blog
BEGIN:VEVENT
DTSTART;TZID=America/Sao_Paulo:20181212T183000
DTEND;TZID=America/Sao_Paulo:20181212T213000
DTSTAMP:20260420T152950
CREATED:20181128T143453Z
LAST-MODIFIED:20181128T143453Z
UID:23717-1544639400-1544650200@blog.livrariadavila.com.br
SUMMARY:A república dos editores
DESCRIPTION: Reinvenção era substantivo ainda fora de uso quando Adriano Silva\, recém-formado em Comunicação\, com ênfase em Publicidade\, decidiu que trabalharia com negócios e partiu para cursar um MBA em Administração no Japão. Foi lá que começou a escrever artigos sobre economia\, oferecendo textos para revistas da editora Abril. Acabou recebendo um convite para trabalhar como executivo de marketing do Grupo\, até se tornar um dos nomes por trás da incrível reestruturação de veículos como a Superinteressante\, a segunda publicação mais vendida à época\, atrás apenas da Veja\, em um dos períodos mais bem-sucedidos do jornalismo da Abril. Os bastidores de uma década de atuação em um dos mais influentes grupos de comunicação do país estão em A República dos Editores\, terceiro livro de Adriano Silva publicado pela Rocco. \nDe Adriano Silva \nEd. Rocco \n
URL:https://blog.livrariadavila.com.br/event/a-republica-dos-editores/
LOCATION:Av. Juscelino Kubitschek\, 2041 - Itaim Bibi\, São Paulo\, São Paulo\, 04543-011\, Brasil
GEO:-23.5914219;-46.6898224
X-APPLE-STRUCTURED-LOCATION;VALUE=URI;X-ADDRESS=Av. Juscelino Kubitschek 2041 - Itaim Bibi São Paulo São Paulo 04543-011 Brasil;X-APPLE-RADIUS=500;X-TITLE=Av. Juscelino Kubitschek\, 2041 - Itaim Bibi:geo:-46.6898224,-23.5914219
CATEGORIES:LANÇAMENTOS,SESSÕES DE AUTÓGRAFOS
END:VEVENT
END:VCALENDAR