BEGIN:VCALENDAR
VERSION:2.0
PRODID:-//VILA - Blog - ECPv4.5.12.2//NONSGML v1.0//EN
CALSCALE:GREGORIAN
METHOD:PUBLISH
X-WR-CALNAME:VILA - Blog
X-ORIGINAL-URL:https://blog.livrariadavila.com.br
X-WR-CALDESC:Events for VILA - Blog
BEGIN:VEVENT
DTSTART;TZID=America/Sao_Paulo:20181124T110000
DTEND;TZID=America/Sao_Paulo:20181124T140000
DTSTAMP:20260420T133045
CREATED:20181023T134050Z
LAST-MODIFIED:20181023T134050Z
UID:23179-1543057200-1543068000@blog.livrariadavila.com.br
SUMMARY:A Sociologia Enraizada de José de Souza Martins
DESCRIPTION:Quinze ensaios\, um poema\, uma trilha sonora e várias fotografias compõem este livro que quer contribuir para a história das ciências sociais no Brasil examinando criticamente as diferentes facetas da sociologia produzida ao longo de mais de cinquenta anos por José de Souza Martins\, um dos maiores sociólogos brasileiros vivos. Por ângulos distintos\, especialistas brasileiros e europeus em sociologia\, antropologia\, história\, fotografia\, literatura e música desvendam um modo único de pensar a vida social\, que se destaca por valorizar as raízes do humano expressas em detalhes aparentemente menores do dia a dia de homens\, mulheres e crianças no campo\, na cidade e na fronteira\, no centro e no subúrbio\, na casa e na rua\, na vigília e nos sonhos vividos no Brasil do passado e do presente – em busca de futuro.\n“Esta coletânea sobre a obra de Martins é uma homenagem mais do que merecida. Ela permitirá que se ressalte sua contribuição para compreender a sociedade brasileira. ‘Sociologia enraizada’ é o que sintetiza a perspectiva metodológica do Autor. A história revive no presente\, modifica-o e\, dialeticamente\, é modificada pela vida”.\nFernando Henrique Cardoso\, sociólogo. \nDe Fraya Frehse (Org.) \nEd. Com Arte \n
URL:https://blog.livrariadavila.com.br/event/a-sociologia-enraizada-de-jose-de-souza-martins/
CATEGORIES:LANÇAMENTOS,SESSÕES DE AUTÓGRAFOS
END:VEVENT
END:VCALENDAR