BEGIN:VCALENDAR
VERSION:2.0
PRODID:-//VILA - Blog - ECPv4.5.12.2//NONSGML v1.0//EN
CALSCALE:GREGORIAN
METHOD:PUBLISH
X-WR-CALNAME:VILA - Blog
X-ORIGINAL-URL:https://blog.livrariadavila.com.br
X-WR-CALDESC:Events for VILA - Blog
BEGIN:VEVENT
DTSTART;TZID=America/Sao_Paulo:20181024T183000
DTEND;TZID=America/Sao_Paulo:20181024T213000
DTSTAMP:20260423T131935
CREATED:20180917T155522Z
LAST-MODIFIED:20180917T155522Z
UID:22475-1540405800-1540416600@blog.livrariadavila.com.br
SUMMARY:A Vida?... É Logo Ali
DESCRIPTION:Tudo tem uma história\, \numa gênese. Assim é a música\, \no chocolate\, o amor\, a vida.” \nTodos estamos sujeitos a passar por situações imponderáveis e traumáticas durante a vida. Uns mergulham e permanecem na tragédia. Outros buscam a superação\, aprendem com a dor e descobrem caminhos alternativos\, criativos e de realização. Por meio da história vivida por mãe e filha\, Gabriela e Lina\, na travessia ao longo de anos de uma vida familiar conturbada\, o autor coloca o leitor em contato com vivências capazes de mobilizar forças interiores que conduzem à esperança e à realização na luta pela vida. \nDe David Léo Levisky  \nEd. Blucher \n
URL:https://blog.livrariadavila.com.br/event/a-vida-e-logo-ali/
LOCATION:Av. Juscelino Kubitschek\, 2041 - Itaim Bibi\, São Paulo\, São Paulo\, 04543-011\, Brasil
GEO:-23.5914219;-46.6898224
X-APPLE-STRUCTURED-LOCATION;VALUE=URI;X-ADDRESS=Av. Juscelino Kubitschek 2041 - Itaim Bibi São Paulo São Paulo 04543-011 Brasil;X-APPLE-RADIUS=500;X-TITLE=Av. Juscelino Kubitschek\, 2041 - Itaim Bibi:geo:-46.6898224,-23.5914219
CATEGORIES:LANÇAMENTOS,SESSÕES DE AUTÓGRAFOS
END:VEVENT
END:VCALENDAR