BEGIN:VCALENDAR
VERSION:2.0
PRODID:-//VILA - Blog - ECPv4.5.12.2//NONSGML v1.0//EN
CALSCALE:GREGORIAN
METHOD:PUBLISH
X-WR-CALNAME:VILA - Blog
X-ORIGINAL-URL:https://blog.livrariadavila.com.br
X-WR-CALDESC:Events for VILA - Blog
BEGIN:VEVENT
DTSTART;TZID=America/Sao_Paulo:20190405T183000
DTEND;TZID=America/Sao_Paulo:20190405T213000
DTSTAMP:20260423T100551
CREATED:20190327T161843Z
LAST-MODIFIED:20190327T161843Z
UID:95823-1554489000-1554499800@blog.livrariadavila.com.br
SUMMARY:A vitória de Sarah sobre o nazismo
DESCRIPTION: Aqui descreverei uma história real. Troquei o nome dos personagens para garantir a privacidade de alguns deles. No entanto\, infelizmente ou felizmente (decida você\, após sua leitura)\, esses fatos aconteceram e foram contados com muito amor em meio a muitas lágrimas e sorrisos. Os detalhes guardam um pouco de ficção misturados aos relatos reais. A locutora\, minha avó materna já havia falecido quando decidi escrever este livro. Pedi a autorização da minha mãe para escrever a história e obtive sua aprovação antes e depois da leitura. Fui para Lódz\, na Polônia\, conhecer os lugares que minha avó descreveu. Encontrei uma cidade linda\, restaurada no pós-guerra e que não condizia mais com a realidade descrita por minha avó. Lembro quando ela viu as fotos e sorriu emocionada com a reconstrução da sua cidade. Precisei usar a imaginação e pesquisar na literatura alguns cenários\, para assim poder descrever os acontecimentos o mais próximo possível da realidade. Meu maior impulso para tomar a decisão de escrever esta obra que você tem agora em mãos foi divulgar essa história para que as dores nela descritas nunca mais aconteçam com ninguém. \nDe Elaine Escobar \nEd. Letramento \n
URL:https://blog.livrariadavila.com.br/event/a-vitoria-de-sarah-sobre-o-nazismo/
LOCATION:Av. Juscelino Kubitschek\, 2041 - Itaim Bibi\, São Paulo\, São Paulo\, 04543-011\, Brasil
GEO:-23.5914219;-46.6898224
X-APPLE-STRUCTURED-LOCATION;VALUE=URI;X-ADDRESS=Av. Juscelino Kubitschek 2041 - Itaim Bibi São Paulo São Paulo 04543-011 Brasil;X-APPLE-RADIUS=500;X-TITLE=Av. Juscelino Kubitschek\, 2041 - Itaim Bibi:geo:-46.6898224,-23.5914219
CATEGORIES:LANÇAMENTOS,SESSÕES DE AUTÓGRAFOS
END:VEVENT
END:VCALENDAR