BEGIN:VCALENDAR
VERSION:2.0
PRODID:-//VILA - Blog - ECPv4.5.12.2//NONSGML v1.0//EN
CALSCALE:GREGORIAN
METHOD:PUBLISH
X-WR-CALNAME:VILA - Blog
X-ORIGINAL-URL:https://blog.livrariadavila.com.br
X-WR-CALDESC:Events for VILA - Blog
BEGIN:VEVENT
DTSTART;TZID=America/Sao_Paulo:20181106T190000
DTEND;TZID=America/Sao_Paulo:20181106T213000
DTSTAMP:20260420T133218
CREATED:20181015T171549Z
LAST-MODIFIED:20181015T171549Z
UID:22993-1541530800-1541539800@blog.livrariadavila.com.br
SUMMARY:Adulta sim\, madura nem sempre - fraldas\, boletos e pouco colágeno
DESCRIPTION: Um dia você é a jovem moderna que ouve música alta e incomoda a vizinha. Num piscar de olhos é você quem está interfonando para o porteiro e reclamando\, aos berros\, do som da garota que mora no andar de cima. O que aconteceu? Simples: a vida adulta chegou. Quer dizer\, não tem nada de simples. \nDe Camila Frender \nEd. Paralela \n
URL:https://blog.livrariadavila.com.br/event/adulta-sim-madura-nem-sempre-fraldas-boletos-e-pouco-colageno/
CATEGORIES:LANÇAMENTOS,SESSÕES DE AUTÓGRAFOS
END:VEVENT
END:VCALENDAR