BEGIN:VCALENDAR
VERSION:2.0
PRODID:-//VILA - Blog - ECPv4.5.12.2//NONSGML v1.0//EN
CALSCALE:GREGORIAN
METHOD:PUBLISH
X-WR-CALNAME:VILA - Blog
X-ORIGINAL-URL:https://blog.livrariadavila.com.br
X-WR-CALDESC:Events for VILA - Blog
BEGIN:VEVENT
DTSTART;TZID=America/Sao_Paulo:20231023T180000
DTEND;TZID=America/Sao_Paulo:20231023T210000
DTSTAMP:20260419T202749
CREATED:20230918T144433Z
LAST-MODIFIED:20230918T144433Z
UID:119449-1698084000-1698094800@blog.livrariadavila.com.br
SUMMARY:AGROTÓXICOS - INCERTEZAS CIENTÍFICAS\, PRINCÍPIO DA PRECAUÇÃO E FATORES EXTRAJURÍDICOS NA TOMADA DE DECISÃO GOVERNAMENTAL - MARINA MONTES BASTOS – ED. DIALÉTICA
DESCRIPTION: \n  \nÉ inegável que os agrotóxicos são um dos alicerces do agronegócio brasileiro\, que\, por sua vez\, é um dos setores mais importantes da economia nacional. Desde a Revolução Verde\, que impulsionou o plantio de monocultura de commodities\, os agrotóxicos desempenham um papel central na manutenção do status quo em relação a esse relevante setor econômico – o que gera dúvidas quanto à existência de forças econômicas influenciando o processo decisório de aprovação ou manutenção do uso dessas substâncias. \nPermeando essa temática\, há a complexa variável da ciência. Na linha do que se denominou “sociedade de risco”\, os riscos são assumidos por órgãos técnicos\, embasados em avaliações de risco cientificamente conduzidas. Os produtores garantem a segurança dos produtos e que eventuais riscos existentes são mínimos\, mapeados e devidamente controlados. Os ambientalistas\, por sua vez\, alertam sobre riscos tenebrosos de câncer\, morte de abelhas\, dentre outros\, apontando total descaso com o princípio da precaução. Para provar seus pontos\, cada parte se utiliza de linguagens complexas e técnicas. No meio dessa discussão\, fica a população completamente às cegas\, sem saber em quem acreditar e sem participar do processo decisório. \nNesse sentido\, e considerando o contexto acima\, buscou-se avaliar os critérios decisórios existentes na legislação brasileira de agrotóxicos\, e como eles vêm sendo utilizados no dia a dia das agências competentes para a liberação de agrotóxicos. \n  \n  \n
URL:https://blog.livrariadavila.com.br/event/agrotoxicos-incertezas-cientificas-principio-da-precaucao-e-fatores-extrajuridicos-na-tomada-de-decisao-governamental-marina-montes-bastos-ed-dialetica/
LOCATION:Rua Fradique Coutinho\, 915 - Pinheiros\, São Paulo\, São Paulo\, 05416-011\, Brasil
GEO:-23.5592934;-46.6892019
X-APPLE-STRUCTURED-LOCATION;VALUE=URI;X-ADDRESS=Rua Fradique Coutinho 915 - Pinheiros São Paulo São Paulo 05416-011 Brasil;X-APPLE-RADIUS=500;X-TITLE=Rua Fradique Coutinho\, 915 - Pinheiros:geo:-46.6892019,-23.5592934
END:VEVENT
END:VCALENDAR