BEGIN:VCALENDAR
VERSION:2.0
PRODID:-//VILA - Blog - ECPv4.5.12.2//NONSGML v1.0//EN
CALSCALE:GREGORIAN
METHOD:PUBLISH
X-WR-CALNAME:VILA - Blog
X-ORIGINAL-URL:https://blog.livrariadavila.com.br
X-WR-CALDESC:Events for VILA - Blog
BEGIN:VEVENT
DTSTART;TZID=America/Sao_Paulo:20231124T180000
DTEND;TZID=America/Sao_Paulo:20231124T210000
DTSTAMP:20260421T073910
CREATED:20230921T143609Z
LAST-MODIFIED:20230921T143609Z
UID:119531-1700848800-1700859600@blog.livrariadavila.com.br
SUMMARY:ALIENAÇÃO PARENTAL - ADRIANA KLAUTAU LEITE DE ALMEIDA – ED. DIALÉTICA
DESCRIPTION: \n  \n“O tema Alienação Parental -Estágio do Tema e Perspectivas para o futuro”\, objeto de sua monografia no curso de especialização\, além de relevante e atual\, constitui-se\, sem dúvida\, em importante instrumento de pesquisa e debate para os operadores do direito. \nEm seu estudo\, a autora retrata o estágio atual da alienação parental\, analisando a legislação vigente\, traçando um panorama para o futuro. Prof.a. Dra. Maria Helena Marques Braceiro Daneluzzi. \n
URL:https://blog.livrariadavila.com.br/event/alienacao-parental-adriana-klautau-leite-de-almeida-ed-dialetica/
LOCATION:Rua Fradique Coutinho\, 915 - Pinheiros\, São Paulo\, São Paulo\, 05416-011\, Brasil
GEO:-23.5592934;-46.6892019
X-APPLE-STRUCTURED-LOCATION;VALUE=URI;X-ADDRESS=Rua Fradique Coutinho 915 - Pinheiros São Paulo São Paulo 05416-011 Brasil;X-APPLE-RADIUS=500;X-TITLE=Rua Fradique Coutinho\, 915 - Pinheiros:geo:-46.6892019,-23.5592934
END:VEVENT
END:VCALENDAR