BEGIN:VCALENDAR
VERSION:2.0
PRODID:-//VILA - Blog - ECPv4.5.12.2//NONSGML v1.0//EN
CALSCALE:GREGORIAN
METHOD:PUBLISH
X-WR-CALNAME:VILA - Blog
X-ORIGINAL-URL:https://blog.livrariadavila.com.br
X-WR-CALDESC:Events for VILA - Blog
BEGIN:VEVENT
DTSTART;TZID=America/Sao_Paulo:20221107T180000
DTEND;TZID=America/Sao_Paulo:20221107T210000
DTSTAMP:20260420T121939
CREATED:20221018T180235Z
LAST-MODIFIED:20221018T180235Z
UID:115667-1667844000-1667854800@blog.livrariadavila.com.br
SUMMARY:AMIGAS QUE SE ENCONTRARAM NA HISTÓRIA: VOLUME 1 E AMIGAS QUE SE ENCONTRARAM NA HISTÓRIA: VOLUME 2 - ANGÉLICA KALIL E AMMA - ED. SEGUINTE
DESCRIPTION: \n  \n\n\n\n\nConheça dez duplas de mulheres que transformaram o mundo — e eram amigas! Vencedor do prêmio Jabuti na categoria juvenil em 2021.Política\, ciência\, arte… Seja qual for a área\, pode ter certeza de que as mulheres botaram pra quebrar — e a gente mal ficou sabendo. E se sozinhas elas já são capazes de verdadeiras revoluções\, imagina juntas? Amigas que se encontraram na História traz dez relatos de amizade entre mulheres que impactaram o mundo em várias épocas. São mulheres negras\, indígenas\, latinas\, brancas\, asiáticas. Jovens\, adultas e idosas. Uma cadeirante e uma surda. Algumas famosas entre as feministas de hoje\, outras que viveram em um tempo em que a palavra “feminismo” nem existia. Mas todas têm algo em comum: a coragem de lutar por seus sonhos — e a admiração por suas amigas.Esta é uma leitura essencial para crianças de todas as idades. É um convite para repensarmos as relações de gênero\, e uma fonte riquíssima de inspiração. Afinal\, juntas\, somos mais fortes. Juntas\, fazemos história.Amigas retratadas: Elizabeth I &amp; Grace O’Malley; Bartolina Sisa &amp; Gregoria Apaza; Qiu &amp; Xu; Annie Jump Cannon &amp; Cecilia Payne-Gaposchkin; Chavela Vargas &amp; Frida Kahlo; Ivone Lara &amp; Nise da Silveira; Ella Fitzgerald &amp; Marilyn Monroe; Mae Jemison &amp; Nichelle Nichols; Emma Watson &amp; Malala Yousafzai; Angélica Kalil &amp; Amma.\n\n\n\n\n\n\n\n\n\n\n\n\nMais dez histórias de amizade feminina — que provam que chegamos mais longe com nossas amigas ao nosso lado.Em Amigas que se encontraram na História\, vencedor do prêmio Jabuti na categoria juvenil em 2021\, conhecemos dez duplas de mulheres que impactaram a história da humanidade — e ainda por cima eram amigas! Mas as amizades femininas que mudaram o mundo não param por aí.Neste segundo volume\, conhecemos mais dez histórias\, passando por todos os períodos históricos\, desde a Antiguidade até os dias atuais. Também carimbamos nosso passaporte em viagens para novos destinos\, como Vietnã\, Rússia\, Austrália\, Dinamarca\, Suécia e Uganda.Esta leitura serve de inspiração para que crianças sonhem com uma sociedade mais humana\, em que as diferenças não signifiquem desigualdades. Quem são as amigas que vão construir esse mundo com você?Amigas retratadas: Tapputi &amp; Ninu; Nhi Trung &amp; Trac Trung; Olympe de Gouges &amp; Sophie de Condorcet; Alexandra Kollontai &amp; Clara Zetkin; Gerda Wegener &amp; Lili Elbe; Faith Bandler &amp; Jessie Street; Elizeth Cardoso &amp; Sarah Vaughan; Lorraine Hansberry &amp; Nina Simone; Cori Gauff &amp; Naomi Osaka; Greta Thunberg &amp; Vanessa Nakate.\n\n\n\n\n\n
URL:https://blog.livrariadavila.com.br/event/amigas-que-se-encontraram-na-historia-volume-1-e-amigas-que-se-encontraram-na-historia-volume-2-angelica-kalil-e-amma-ed-seguinte/
LOCATION:Rua Fradique Coutinho\, 915 - Pinheiros\, São Paulo\, São Paulo\, 05416-011\, Brasil
GEO:-23.5592934;-46.6892019
X-APPLE-STRUCTURED-LOCATION;VALUE=URI;X-ADDRESS=Rua Fradique Coutinho 915 - Pinheiros São Paulo São Paulo 05416-011 Brasil;X-APPLE-RADIUS=500;X-TITLE=Rua Fradique Coutinho\, 915 - Pinheiros:geo:-46.6892019,-23.5592934
END:VEVENT
END:VCALENDAR