BEGIN:VCALENDAR
VERSION:2.0
PRODID:-//VILA - Blog - ECPv4.5.12.2//NONSGML v1.0//EN
CALSCALE:GREGORIAN
METHOD:PUBLISH
X-WR-CALNAME:VILA - Blog
X-ORIGINAL-URL:https://blog.livrariadavila.com.br
X-WR-CALDESC:Events for VILA - Blog
BEGIN:VEVENT
DTSTART;TZID=America/Sao_Paulo:20191210T183000
DTEND;TZID=America/Sao_Paulo:20191210T213000
DTSTAMP:20260422T105736
CREATED:20191204T190146Z
LAST-MODIFIED:20191204T190249Z
UID:106358-1576002600-1576013400@blog.livrariadavila.com.br
SUMMARY:Anotando a China
DESCRIPTION:Anotando a China: Viagem Psicanalítica ao Oriente é a última produção de Fabio Herrmann\, organizada em livro em seus derradeiros meses de vida. “Produção”\, e não “escrito”\, porque combina textos psicanalítico-literários e fotografias que são inspirados e resultam de uma viagem de quarenta dias por Japão e China – uma viagem turística. Impactante\, por ter sido realizada em meados de 2005\, época “em que a China dava os primeiros passos para firmar-se como potência econômico-industrial no mundo e\, com isso\, desafiar o Ocidente\, mas apresentando ainda grandes nichos de miséria\, de população miserável. Este livro carrega o sentido de despedida por parte do autor\, já muito doente enquanto o preparava. \n  \nDe Fabio Herrmann \nEd. Unifesp \n
URL:https://blog.livrariadavila.com.br/event/anotando-a-china/
LOCATION:Rua Fradique Coutinho\, 915 - Pinheiros\, São Paulo\, São Paulo\, 05416-011\, Brasil
GEO:-23.5592934;-46.6892019
X-APPLE-STRUCTURED-LOCATION;VALUE=URI;X-ADDRESS=Rua Fradique Coutinho 915 - Pinheiros São Paulo São Paulo 05416-011 Brasil;X-APPLE-RADIUS=500;X-TITLE=Rua Fradique Coutinho\, 915 - Pinheiros:geo:-46.6892019,-23.5592934
CATEGORIES:LANÇAMENTOS,SESSÕES DE AUTÓGRAFOS
END:VEVENT
END:VCALENDAR