BEGIN:VCALENDAR
VERSION:2.0
PRODID:-//VILA - Blog - ECPv4.5.12.2//NONSGML v1.0//EN
CALSCALE:GREGORIAN
METHOD:PUBLISH
X-WR-CALNAME:VILA - Blog
X-ORIGINAL-URL:https://blog.livrariadavila.com.br
X-WR-CALDESC:Events for VILA - Blog
BEGIN:VEVENT
DTSTART;TZID=America/Sao_Paulo:20181213T183000
DTEND;TZID=America/Sao_Paulo:20181213T213000
DTSTAMP:20260420T182511
CREATED:20181128T143705Z
LAST-MODIFIED:20181128T143705Z
UID:23720-1544725800-1544736600@blog.livrariadavila.com.br
SUMMARY:Aplicação do Coaching para Mulheres
DESCRIPTION:Como o Coaching leva mulheres à realização profissional e pessoal.\nNeste livro\, 15 profissionais dinâmicas e bem-sucedidas mostram os resultados do Coaching como poderoso aliado da transformação de vidas. As delas próprias ou das mulheres as quais ajudaram a encontrar o equilíbrio emocional e elaborar estratégias visando o desenvolvimento profissional\, emocional e social.\nSão relatos verdadeiros e emocionantes de mulheres que se desenvolveram através do autoconhecimento\, quebraram paradigmas que impediam seu crescimento e constataram que a vida que desejavam era possível. Todas essas mudanças\, segundo as coautoras\, foram possíveis através do processo de Coaching\, que leva a um novo modelo mental e uma nova atitude diante dos desafios da vida permanentemente.\nAs coautoras propõem ainda diversos exercícios\, para que as leitoras comecem a vivenciar o Coaching e descubram algumas coisas que estavam adormecidas dentro delas\, e assim gerem insights que serão muito importantes para a sua vida pessoal e profissional. \nDe Monica Graton\, Marcos M. Oliveira e Andréia Roma (Coord.) \nEd. Leader \n
URL:https://blog.livrariadavila.com.br/event/aplicacao-do-coaching-para-mulheres/
LOCATION:Av. Juscelino Kubitschek\, 2041 - Itaim Bibi\, São Paulo\, São Paulo\, 04543-011\, Brasil
GEO:-23.5914219;-46.6898224
X-APPLE-STRUCTURED-LOCATION;VALUE=URI;X-ADDRESS=Av. Juscelino Kubitschek 2041 - Itaim Bibi São Paulo São Paulo 04543-011 Brasil;X-APPLE-RADIUS=500;X-TITLE=Av. Juscelino Kubitschek\, 2041 - Itaim Bibi:geo:-46.6898224,-23.5914219
CATEGORIES:LANÇAMENTOS,SESSÕES DE AUTÓGRAFOS
END:VEVENT
END:VCALENDAR