BEGIN:VCALENDAR
VERSION:2.0
PRODID:-//VILA - Blog - ECPv4.5.12.2//NONSGML v1.0//EN
CALSCALE:GREGORIAN
METHOD:PUBLISH
X-WR-CALNAME:VILA - Blog
X-ORIGINAL-URL:https://blog.livrariadavila.com.br
X-WR-CALDESC:Events for VILA - Blog
BEGIN:VEVENT
DTSTART;TZID=America/Sao_Paulo:20180127T110000
DTEND;TZID=America/Sao_Paulo:20180127T180000
DTSTAMP:20260420T193155
CREATED:20171221T144135Z
LAST-MODIFIED:20171221T144135Z
UID:6013-1517050800-1517076000@blog.livrariadavila.com.br
SUMMARY:Aprenda a jogar os games da Copag
DESCRIPTION:Serão ensinadas as principais mecânicas dos jogos Uno\, Mico e Jogo das Cores Uno. \nApoio: Copag \nIdade indicada: a partir de 5 anos \n
URL:https://blog.livrariadavila.com.br/event/aprenda-a-jogar-os-games-da-copag-2/
LOCATION:Av. Juscelino Kubitschek\, 2041 - Itaim Bibi\, São Paulo\, São Paulo\, 04543-011\, Brasil
GEO:-23.5914219;-46.6898224
X-APPLE-STRUCTURED-LOCATION;VALUE=URI;X-ADDRESS=Av. Juscelino Kubitschek 2041 - Itaim Bibi São Paulo São Paulo 04543-011 Brasil;X-APPLE-RADIUS=500;X-TITLE=Av. Juscelino Kubitschek\, 2041 - Itaim Bibi:geo:-46.6898224,-23.5914219
CATEGORIES:ATIVIDADES INFANTIS,FÉRIAS NA VILA
END:VEVENT
END:VCALENDAR