BEGIN:VCALENDAR
VERSION:2.0
PRODID:-//VILA - Blog - ECPv4.5.12.2//NONSGML v1.0//EN
CALSCALE:GREGORIAN
METHOD:PUBLISH
X-WR-CALNAME:VILA - Blog
X-ORIGINAL-URL:https://blog.livrariadavila.com.br
X-WR-CALDESC:Events for VILA - Blog
BEGIN:VEVENT
DTSTART;TZID=America/Sao_Paulo:20181123T183000
DTEND;TZID=America/Sao_Paulo:20181123T213000
DTSTAMP:20260420T182415
CREATED:20181106T172434Z
LAST-MODIFIED:20181106T172434Z
UID:23366-1542997800-1543008600@blog.livrariadavila.com.br
SUMMARY:Arbitragem no Agronegócio
DESCRIPTION:O principal objetivo do livro é demonstrar a importância\, necessidade e viabilidade de utilizar a Arbitragem como método alternativo para solucionar os intrigantes conflitos relacionados ao Agronegócio\, com maior especialização e com vistas à obtenção de decisões mais adequadas e próximas da realidade do setor. \nDe Marcos Hokumura Reis (Coord.) \nEd. Verbatim \n
URL:https://blog.livrariadavila.com.br/event/arbitragem-no-agronegocio/
LOCATION:Av. Juscelino Kubitschek\, 2041 - Itaim Bibi\, São Paulo\, São Paulo\, 04543-011\, Brasil
GEO:-23.5914219;-46.6898224
X-APPLE-STRUCTURED-LOCATION;VALUE=URI;X-ADDRESS=Av. Juscelino Kubitschek 2041 - Itaim Bibi São Paulo São Paulo 04543-011 Brasil;X-APPLE-RADIUS=500;X-TITLE=Av. Juscelino Kubitschek\, 2041 - Itaim Bibi:geo:-46.6898224,-23.5914219
CATEGORIES:LANÇAMENTOS,SESSÕES DE AUTÓGRAFOS
END:VEVENT
END:VCALENDAR