BEGIN:VCALENDAR
VERSION:2.0
PRODID:-//VILA - Blog - ECPv4.5.12.2//NONSGML v1.0//EN
CALSCALE:GREGORIAN
METHOD:PUBLISH
X-WR-CALNAME:VILA - Blog
X-ORIGINAL-URL:https://blog.livrariadavila.com.br
X-WR-CALDESC:Events for VILA - Blog
BEGIN:VEVENT
DTSTART;TZID=America/Sao_Paulo:20181129T183000
DTEND;TZID=America/Sao_Paulo:20181129T213000
DTSTAMP:20260421T051256
CREATED:20181106T170813Z
LAST-MODIFIED:20181106T170813Z
UID:23356-1543516200-1543527000@blog.livrariadavila.com.br
SUMMARY:Arbitragem\, seguro e sua complexidade de relações
DESCRIPTION: O uso da arbitragem em matéria securitária é perfeitamente possível. Os problemas surgem\, contudo\, quando o segurado é considerado como consumidor. A cláusula compromissória existente nos contratos de seguro\, quando estes são celebrados no contexto de uma relação de consumo\, será válida desde que respeitados os preceitos da regulamentação SUSEP e do §2o do artigo 4o da Lei de Arbitragem\, devendo estar redigida de forma clara e simplificada. \nDe Viviane Rosolia Teodoro \nEd. Lumen Juris \n
URL:https://blog.livrariadavila.com.br/event/arbitragem-seguro-e-sua-complexidade-de-relacoes/
LOCATION:Av. Higienópolis\, 618 – Higienópolis\, São Paulo\, SP\, 01238-000\, Brasil
GEO:-23.542049;-46.6577148
X-APPLE-STRUCTURED-LOCATION;VALUE=URI;X-ADDRESS=Av. Higienópolis 618 – Higienópolis São Paulo SP 01238-000 Brasil;X-APPLE-RADIUS=500;X-TITLE=Av. Higienópolis\, 618 – Higienópolis:geo:-46.6577148,-23.542049
CATEGORIES:LANÇAMENTOS,SESSÕES DE AUTÓGRAFOS
END:VEVENT
END:VCALENDAR