BEGIN:VCALENDAR
VERSION:2.0
PRODID:-//VILA - Blog - ECPv4.5.12.2//NONSGML v1.0//EN
CALSCALE:GREGORIAN
METHOD:PUBLISH
X-WR-CALNAME:VILA - Blog
X-ORIGINAL-URL:https://blog.livrariadavila.com.br
X-WR-CALDESC:Events for VILA - Blog
BEGIN:VEVENT
DTSTART;TZID=America/Sao_Paulo:20191106T183000
DTEND;TZID=America/Sao_Paulo:20191106T213000
DTSTAMP:20260424T043327
CREATED:20191030T151857Z
LAST-MODIFIED:20191030T151857Z
UID:99922-1573065000-1573075800@blog.livrariadavila.com.br
SUMMARY:Armas para quê?
DESCRIPTION: \nTodos querem mais segurança. No Brasil de hoje\, ricos e pobres vivem sob a ameaça constante da violência: uma em cada treze mortes por armas de fogo no mundo acontece no país. Não há como negar que os governos vêm falhando em cumprir seu dever constitucional de proteger a população. Neste cenário de medo e insegurança\, é compreensível que surja todo tipo de proposta salvadora – principalmente no que diz respeito ao uso de armas por civis. É por isso que o livro Armas para quê? de Antônio Rangel Bandeira\, chega como uma obra imprescindível a todos: trata-se de um guia indispensável para entender os números sobre controle de armas no mundo\, e o que deu ou não deu certo na defesa da vida. O sociólogo disseca os fracassos e acertos alcançados na controversa e antiga relação entre armas de fogo\, cidadãos\, violência e segurança pública no Brasil e no mundo\, reunindo dados\, argumentos\, projetos e experiências para mostrar o que há de mito e de verdade na tese de que armar a população é um instrumento de proteção da sociedade. \n  \nDe Antônio Rangel Bandeira \nEd. LeYa \n  \nLançamento e bate-papo. \n
URL:https://blog.livrariadavila.com.br/event/armas-para-que/
LOCATION:Rua Fradique Coutinho\, 915 - Pinheiros\, São Paulo\, São Paulo\, 05416-011\, Brasil
GEO:-23.5592934;-46.6892019
X-APPLE-STRUCTURED-LOCATION;VALUE=URI;X-ADDRESS=Rua Fradique Coutinho 915 - Pinheiros São Paulo São Paulo 05416-011 Brasil;X-APPLE-RADIUS=500;X-TITLE=Rua Fradique Coutinho\, 915 - Pinheiros:geo:-46.6892019,-23.5592934
CATEGORIES:BATE-PAPO,LANÇAMENTOS,SESSÕES DE AUTÓGRAFOS
END:VEVENT
END:VCALENDAR