BEGIN:VCALENDAR
VERSION:2.0
PRODID:-//VILA - Blog - ECPv4.5.12.2//NONSGML v1.0//EN
CALSCALE:GREGORIAN
METHOD:PUBLISH
X-WR-CALNAME:VILA - Blog
X-ORIGINAL-URL:https://blog.livrariadavila.com.br
X-WR-CALDESC:Events for VILA - Blog
BEGIN:VEVENT
DTSTART;TZID=America/Sao_Paulo:20251105T190000
DTEND;TZID=America/Sao_Paulo:20251105T213000
DTSTAMP:20260425T233851
CREATED:20250929T161033Z
LAST-MODIFIED:20250929T161033Z
UID:130244-1762369200-1762378200@blog.livrariadavila.com.br
SUMMARY:ARTE MÁGICA – ROBERTO GANEM – ED. AGWM
DESCRIPTION: \nArte Mágica possui conteúdo rico e de fácil entendimento\, ilustrado com uma coletânea de mais de 170 obras de arte\, trabalho desenvolvido por Roberto Ganem. \n
URL:https://blog.livrariadavila.com.br/event/arte-magica-roberto-ganem-ed-agwm/
LOCATION:R. Treze de Maio\, 1947 - Bela Vista\, São Paulo\, São Paulo\, 01327-900
CATEGORIES:LANÇAMENTOS,SESSÕES DE AUTÓGRAFOS
END:VEVENT
END:VCALENDAR