BEGIN:VCALENDAR
VERSION:2.0
PRODID:-//VILA - Blog - ECPv4.5.12.2//NONSGML v1.0//EN
CALSCALE:GREGORIAN
METHOD:PUBLISH
X-WR-CALNAME:VILA - Blog
X-ORIGINAL-URL:https://blog.livrariadavila.com.br
X-WR-CALDESC:Events for VILA - Blog
BEGIN:VEVENT
DTSTART;TZID=America/Sao_Paulo:20181201T150000
DTEND;TZID=America/Sao_Paulo:20181201T180000
DTSTAMP:20260420T174828
CREATED:20181122T190021Z
LAST-MODIFIED:20181122T190021Z
UID:23590-1543676400-1543687200@blog.livrariadavila.com.br
SUMMARY:Artimanha - nas entrelinhas da Arte
DESCRIPTION:  \n \nDe Flávia Reis \nIlustrações: Nina Anderson \nEste divertido livro apresenta algumas charadas que\, junto com as ilustrações\, induzem o leitor à resposta final: quem é o narrador em primeira pessoa. Texto e imagens são criativos e estimulantes\, trazendo variadas referências artísticas e misturando-as. Ao longo das páginas recheadas de cultura\, o leitor vai viajar pelos elementos da história da arte tentando descobrir quem conversa com ele. Ao final do livro\, a obra apresenta informações sobre todas as referências\, permitindo que se possa desfrutar seu delicioso conteúdo integralmente. As artimanhas da Arte são mesmo uma delícia de se conhecer! \n
URL:https://blog.livrariadavila.com.br/event/artimanha-nas-entrelinhas-da-arte/
LOCATION:Rua Fradique Coutinho\, 915 - Pinheiros\, São Paulo\, São Paulo\, 05416-011\, Brasil
GEO:-23.5592934;-46.6892019
X-APPLE-STRUCTURED-LOCATION;VALUE=URI;X-ADDRESS=Rua Fradique Coutinho 915 - Pinheiros São Paulo São Paulo 05416-011 Brasil;X-APPLE-RADIUS=500;X-TITLE=Rua Fradique Coutinho\, 915 - Pinheiros:geo:-46.6892019,-23.5592934
CATEGORIES:LANÇAMENTOS,SESSÕES DE AUTÓGRAFOS
END:VEVENT
END:VCALENDAR