BEGIN:VCALENDAR
VERSION:2.0
PRODID:-//VILA - Blog - ECPv4.5.12.2//NONSGML v1.0//EN
CALSCALE:GREGORIAN
METHOD:PUBLISH
X-WR-CALNAME:VILA - Blog
X-ORIGINAL-URL:https://blog.livrariadavila.com.br
X-WR-CALDESC:Events for VILA - Blog
BEGIN:VEVENT
DTSTART;TZID=America/Sao_Paulo:20230923T150000
DTEND;TZID=America/Sao_Paulo:20230923T180000
DTSTAMP:20260420T132200
CREATED:20230919T191632Z
LAST-MODIFIED:20230919T191632Z
UID:119485-1695481200-1695492000@blog.livrariadavila.com.br
SUMMARY:AS AVENTURAS DE OLI & KORA - O FEITICEIRO LING LING FU - CLAUDIA DICARMO – ED. SKOOBOOKS
DESCRIPTION: \n  \nFala sobre um feiticeiro que mata tubarões para fazer uma poção mágica. Oli & Kora irão criar um plano para impedir que ele tenha êxito. \n
URL:https://blog.livrariadavila.com.br/event/as-aventuras-de-oli-kora-o-feiticeiro-ling-ling-fu-claudia-dicarmo-ed-skoobooks/
LOCATION:R. Treze de Maio\, 1947 - Bela Vista\, São Paulo\, São Paulo\, 01327-900
END:VEVENT
END:VCALENDAR