BEGIN:VCALENDAR
VERSION:2.0
PRODID:-//VILA - Blog - ECPv4.5.12.2//NONSGML v1.0//EN
CALSCALE:GREGORIAN
METHOD:PUBLISH
X-WR-CALNAME:VILA - Blog
X-ORIGINAL-URL:https://blog.livrariadavila.com.br
X-WR-CALDESC:Events for VILA - Blog
BEGIN:VEVENT
DTSTART;TZID=America/Sao_Paulo:20240817T140000
DTEND;TZID=America/Sao_Paulo:20240817T170000
DTSTAMP:20260422T225822
CREATED:20240718T150243Z
LAST-MODIFIED:20240718T150243Z
UID:123318-1723903200-1723914000@blog.livrariadavila.com.br
SUMMARY:AS FAMÍLIAS E SUCESSÕES - COORD. FERNANDA LAS CASAS – ED. UNIVERSIDADE  METODISTA DE SÃO PAULO
DESCRIPTION: \n  \n  \n
URL:https://blog.livrariadavila.com.br/event/as-familias-e-sucessoes-coord-fernanda-las-casas-ed-universidade-metodista-de-sao-paulo/
LOCATION:Av. Roque Petroni Júnior\, 1089\, São Paulo\, São Paulo\, 04833001\, Brasil
END:VEVENT
END:VCALENDAR