BEGIN:VCALENDAR
VERSION:2.0
PRODID:-//VILA - Blog - ECPv4.5.12.2//NONSGML v1.0//EN
CALSCALE:GREGORIAN
METHOD:PUBLISH
X-WR-CALNAME:VILA - Blog
X-ORIGINAL-URL:https://blog.livrariadavila.com.br
X-WR-CALDESC:Events for VILA - Blog
BEGIN:VEVENT
DTSTART;TZID=America/Sao_Paulo:20250325T180000
DTEND;TZID=America/Sao_Paulo:20250325T213000
DTSTAMP:20260422T141741
CREATED:20250211T140405Z
LAST-MODIFIED:20250211T140405Z
UID:126095-1742925600-1742938200@blog.livrariadavila.com.br
SUMMARY:AS MENTIRAS QUE CONTAM PARA VOCÊ: O PODER DA AUTOILUSÃO - CARLOS EDUARDO SIMÕES - ED. LITERARE BOOKS INTERNATIONAL
DESCRIPTION: \nPor que mentimos? Por que acreditamos em mentiras\, mesmo quando elas parecem evidentes? Em “As mentiras que nos contam”\, o autor convida os leitores a refletirem sobre o impacto das inverdades que ouvimos – e muitas vezes aceitamos como verdades absolutas – em nossas vidas. Com uma abordagem que combina pesquisas\, estudos e experiências pessoais\, o livro explora como as mentiras\, conselhos ou opiniões alheias podem moldar nossas decisões\, limitar nosso potencial e influenciar quem nos tornamos. Por meio de uma análise profunda da autoilusão e do poder da narrativa\, a obra nos incentiva a questionar verdades impostas e a abrir caminho para uma vida mais autêntica e consciente. Uma leitura essencial para quem busca se libertar das amarras de crenças limitantes e construir um futuro baseado em suas próprias verdades. \n
URL:https://blog.livrariadavila.com.br/event/as-mentiras-que-contam-para-voce-o-poder-da-autoilusao-carlos-eduardo-simoes-ed-literare-books-international/
LOCATION:Av. Roque Petroni Júnior\, 1089\, São Paulo\, São Paulo\, 04833001\, Brasil
CATEGORIES:SESSÕES DE AUTÓGRAFOS
END:VEVENT
END:VCALENDAR