BEGIN:VCALENDAR
VERSION:2.0
PRODID:-//VILA - Blog - ECPv4.5.12.2//NONSGML v1.0//EN
CALSCALE:GREGORIAN
METHOD:PUBLISH
X-WR-CALNAME:VILA - Blog
X-ORIGINAL-URL:https://blog.livrariadavila.com.br
X-WR-CALDESC:Events for VILA - Blog
BEGIN:VEVENT
DTSTART;TZID=America/Sao_Paulo:20191212T183000
DTEND;TZID=America/Sao_Paulo:20191212T213000
DTSTAMP:20260422T123004
CREATED:20191204T183540Z
LAST-MODIFIED:20191204T183540Z
UID:106355-1576175400-1576186200@blog.livrariadavila.com.br
SUMMARY:Asa branca - A biografia
DESCRIPTION: \nAsa Branca ocupou o posto de locutor número 1 das arenas durante duas décadas. Com voz potente\, microfone e raciocínio ágil\, animava uma plateia de 30 mil pessoas como quem conversa com um amigo. Inovou ao chegar de helicóptero às apresentações\, narrar em meio aos animais\, apresentar ao público brasileiro o microfone sem fio\, dar voz aos peões nas entrevistas\, inserir DJ e rock internacional à festa até então exclusivamente sertaneja. Alcançou o degrau mais alto do sucesso e embolsou cifras milionárias. Foi dono de avião\, helicóptero\, duas mil cabeças de gado e carros luxuosos. Autodestrutivo\, viveu a 200 quilômetros por hora. Em razão dos excessos\, perdeu todo o patrimônio. A biografia refaz a história do locutor sem qualquer censura\, defesa ou julgamento. Até porque\, com Asa Branca\, não existe meio-termo: sua figura nunca passa incólume. \n  \nDe Raul Marques \nEd. Letramento \n
URL:https://blog.livrariadavila.com.br/event/asa-branca-a-biografia/
LOCATION:Rua Fradique Coutinho\, 915 - Pinheiros\, São Paulo\, São Paulo\, 05416-011\, Brasil
GEO:-23.5592934;-46.6892019
X-APPLE-STRUCTURED-LOCATION;VALUE=URI;X-ADDRESS=Rua Fradique Coutinho 915 - Pinheiros São Paulo São Paulo 05416-011 Brasil;X-APPLE-RADIUS=500;X-TITLE=Rua Fradique Coutinho\, 915 - Pinheiros:geo:-46.6892019,-23.5592934
CATEGORIES:LANÇAMENTOS,SESSÕES DE AUTÓGRAFOS
END:VEVENT
END:VCALENDAR