BEGIN:VCALENDAR
VERSION:2.0
PRODID:-//VILA - Blog - ECPv4.5.12.2//NONSGML v1.0//EN
CALSCALE:GREGORIAN
METHOD:PUBLISH
X-WR-CALNAME:VILA - Blog
X-ORIGINAL-URL:https://blog.livrariadavila.com.br
X-WR-CALDESC:Events for VILA - Blog
BEGIN:VEVENT
DTSTART;TZID=America/Sao_Paulo:20181215T160000
DTEND;TZID=America/Sao_Paulo:20181215T170000
DTSTAMP:20260422T031114
CREATED:20181203T173143Z
LAST-MODIFIED:20181203T173143Z
UID:24879-1544889600-1544893200@blog.livrariadavila.com.br
SUMMARY:Atividade infantil - Histórias de Cantigas
DESCRIPTION: Divertida tarde com contação de histórias\, cantigas e atividade interativa! \nCom Rute Beserra e o violonista Peppi Araújo. \nEvento gratuito \n
URL:https://blog.livrariadavila.com.br/event/atividade-infantil-historias-de-cantigas/
CATEGORIES:LANÇAMENTOS,SESSÕES DE AUTÓGRAFOS
END:VEVENT
END:VCALENDAR