BEGIN:VCALENDAR
VERSION:2.0
PRODID:-//VILA - Blog - ECPv4.5.12.2//NONSGML v1.0//EN
CALSCALE:GREGORIAN
METHOD:PUBLISH
X-WR-CALNAME:VILA - Blog
X-ORIGINAL-URL:https://blog.livrariadavila.com.br
X-WR-CALDESC:Events for VILA - Blog
BEGIN:VEVENT
DTSTART;TZID=America/Sao_Paulo:20181020T150000
DTEND;TZID=America/Sao_Paulo:20181020T163000
DTSTAMP:20260422T110236
CREATED:20181001T183501Z
LAST-MODIFIED:20181001T183501Z
UID:22685-1540047600-1540053000@blog.livrariadavila.com.br
SUMMARY:Atividade infantil - Histórias que ensinam: a história dos números e jogos de baralho
DESCRIPTION:Lydia e Laurabeatriz querem contar estas histórias: enquanto uma fala\, a outra desenha. \nQuando o homem passou a viver em grupos\, muitas coisas aconteceram. Uma nova necessidade surgiu. O registro das quantidades\, do tempo\, das medidas: o início da criação dos Números que ainda usamos. Muitas histórias deste trajeto são pitorescas e dão sentido às regras usadas hoje. Matemática é vida\, é dia a dia\, deve ser ensinada com compreensão e significado. Ao final\, uma oficina de jogos numéricos para todos. \nM. Lydia – psicopedagoga\, autora de materiais didáticos\, assessora de escolas\, professora do curso de Pedagogia do Instituto de Educação Vera Cruz e do Instituto Sedes Sapientiae. Laurabeatriz é ilustradora e artista plástica. Já participou de diversas exposições\, com desenhos\, pinturas e xilogravuras. Também já  ilustrou muitos livros para crianças. Suas técnicas preferidas são guache e pastel  sobre papel\, e acrílica sobre tela. \nEvento gratuito \n  \n  \n
URL:https://blog.livrariadavila.com.br/event/atividade-infantil-historias-que-ensinam-a-historia-dos-numeros-e-jogos-de-baralho/
LOCATION:Rua Fradique Coutinho\, 915 - Pinheiros\, São Paulo\, São Paulo\, 05416-011\, Brasil
GEO:-23.5592934;-46.6892019
X-APPLE-STRUCTURED-LOCATION;VALUE=URI;X-ADDRESS=Rua Fradique Coutinho 915 - Pinheiros São Paulo São Paulo 05416-011 Brasil;X-APPLE-RADIUS=500;X-TITLE=Rua Fradique Coutinho\, 915 - Pinheiros:geo:-46.6892019,-23.5592934
CATEGORIES:ATIVIDADES INFANTIS
END:VEVENT
END:VCALENDAR