BEGIN:VCALENDAR
VERSION:2.0
PRODID:-//VILA - Blog - ECPv4.5.12.2//NONSGML v1.0//EN
CALSCALE:GREGORIAN
METHOD:PUBLISH
X-WR-CALNAME:VILA - Blog
X-ORIGINAL-URL:https://blog.livrariadavila.com.br
X-WR-CALDESC:Events for VILA - Blog
BEGIN:VEVENT
DTSTART;TZID=America/Sao_Paulo:20190413T160000
DTEND;TZID=America/Sao_Paulo:20190413T170000
DTSTAMP:20260420T215331
CREATED:20190329T204000Z
LAST-MODIFIED:20190401T124943Z
UID:95932-1555171200-1555174800@blog.livrariadavila.com.br
SUMMARY:Atividade infantil - Yoga para crianças
DESCRIPTION:Com Flavia Noble \nYoga\, para todos\, ajuda na consciência corporal\, melhora o tônus muscular\, trabalha positivamente a autoestima\, além de trazer estabilidade emocional. Para os pequenos\, nem sem fala! Trabalhando a respiração\, usando a imaginação e muita criatividade eles se beneficiam muito com essa prática que é milenar\, porém adaptada para eles. \nEvento gratuito \n
URL:https://blog.livrariadavila.com.br/event/atividade-infantil-yoga-para-criancas-2/
LOCATION:Av. Moema\, 493\, São Paulo\, São Paulo\, 04077-022\, Brasil
GEO:-23.6060908;-46.6565273
X-APPLE-STRUCTURED-LOCATION;VALUE=URI;X-ADDRESS=Av. Moema 493 São Paulo São Paulo 04077-022 Brasil;X-APPLE-RADIUS=500;X-TITLE=Av. Moema\, 493:geo:-46.6565273,-23.6060908
CATEGORIES:ATIVIDADES INFANTIS
END:VEVENT
END:VCALENDAR