BEGIN:VCALENDAR
VERSION:2.0
PRODID:-//VILA - Blog - ECPv4.5.12.2//NONSGML v1.0//EN
CALSCALE:GREGORIAN
METHOD:PUBLISH
X-WR-CALNAME:VILA - Blog
X-ORIGINAL-URL:https://blog.livrariadavila.com.br
X-WR-CALDESC:Events for VILA - Blog
BEGIN:VEVENT
DTSTART;TZID=America/Sao_Paulo:20230721T150000
DTEND;TZID=America/Sao_Paulo:20230721T180000
DTSTAMP:20260420T202021
CREATED:20230706T134807Z
LAST-MODIFIED:20230706T134807Z
UID:118334-1689951600-1689962400@blog.livrariadavila.com.br
SUMMARY:ATIVIDADES DE JOGOS COM COPAG
DESCRIPTION: \n  \n \n
URL:https://blog.livrariadavila.com.br/event/atividades-de-jogos-com-copag-3/
LOCATION:Av. Rebouças\, 3970 Piso 1 - Pinheiros\, São Paulo\, São Paulo\, 05402-600
CATEGORIES:FÉRIAS NA VILA
END:VEVENT
END:VCALENDAR