BEGIN:VCALENDAR
VERSION:2.0
PRODID:-//VILA - Blog - ECPv4.5.12.2//NONSGML v1.0//EN
CALSCALE:GREGORIAN
METHOD:PUBLISH
X-WR-CALNAME:VILA - Blog
X-ORIGINAL-URL:https://blog.livrariadavila.com.br
X-WR-CALDESC:Events for VILA - Blog
BEGIN:VEVENT
DTSTART;TZID=America/Sao_Paulo:20230714T150000
DTEND;TZID=America/Sao_Paulo:20230714T180000
DTSTAMP:20260422T174633
CREATED:20230705T183104Z
LAST-MODIFIED:20230705T183104Z
UID:118253-1689346800-1689357600@blog.livrariadavila.com.br
SUMMARY:ATIVIDADES DE JOGOS E BRINCADEIRAS COM BABEBI
DESCRIPTION: \n \n
URL:https://blog.livrariadavila.com.br/event/atividades-de-jogos-e-brincadeiras-com-babebi-3/
LOCATION:Av. Regente Feijó\, nº 1739 – Loja L11 – Vl.\, São Paulo\, São Paulo\, 03342-900
CATEGORIES:FÉRIAS NA VILA
END:VEVENT
END:VCALENDAR