BEGIN:VCALENDAR
VERSION:2.0
PRODID:-//VILA - Blog - ECPv4.5.12.2//NONSGML v1.0//EN
CALSCALE:GREGORIAN
METHOD:PUBLISH
X-WR-CALNAME:VILA - Blog
X-ORIGINAL-URL:https://blog.livrariadavila.com.br
X-WR-CALDESC:Events for VILA - Blog
BEGIN:VEVENT
DTSTART;TZID=America/Sao_Paulo:20230722T150000
DTEND;TZID=America/Sao_Paulo:20230722T180000
DTSTAMP:20260420T122352
CREATED:20230706T140605Z
LAST-MODIFIED:20230706T140605Z
UID:118356-1690038000-1690048800@blog.livrariadavila.com.br
SUMMARY:ATIVIDADES DE JOGOS E BRINCADEIRAS COM GALAPAGOS
DESCRIPTION: \n  \n \n
URL:https://blog.livrariadavila.com.br/event/atividades-de-jogos-e-brincadeiras-com-galapagos-5/
LOCATION:Av. Roque Petroni Júnior\, 1089\, São Paulo\, São Paulo\, 04833001\, Brasil
CATEGORIES:FÉRIAS NA VILA
END:VEVENT
END:VCALENDAR