BEGIN:VCALENDAR
VERSION:2.0
PRODID:-//VILA - Blog - ECPv4.5.12.2//NONSGML v1.0//EN
CALSCALE:GREGORIAN
METHOD:PUBLISH
X-WR-CALNAME:VILA - Blog
X-ORIGINAL-URL:https://blog.livrariadavila.com.br
X-WR-CALDESC:Events for VILA - Blog
BEGIN:VEVENT
DTSTART;TZID=America/Sao_Paulo:20230714T150000
DTEND;TZID=America/Sao_Paulo:20230714T180000
DTSTAMP:20260422T191341
CREATED:20230705T182208Z
LAST-MODIFIED:20230705T182208Z
UID:118248-1689346800-1689357600@blog.livrariadavila.com.br
SUMMARY:ATIVIDADES E BRINCADEIRAS COM TOYSTER
DESCRIPTION: \n \n
URL:https://blog.livrariadavila.com.br/event/atividades-e-brincadeiras-com-toyster-2/
LOCATION:Av. Roque Petroni Júnior\, 1089\, São Paulo\, São Paulo\, 04833001\, Brasil
CATEGORIES:FÉRIAS NA VILA
END:VEVENT
END:VCALENDAR