BEGIN:VCALENDAR
VERSION:2.0
PRODID:-//VILA - Blog - ECPv4.5.12.2//NONSGML v1.0//EN
CALSCALE:GREGORIAN
METHOD:PUBLISH
X-WR-CALNAME:VILA - Blog
X-ORIGINAL-URL:https://blog.livrariadavila.com.br
X-WR-CALDESC:Events for VILA - Blog
BEGIN:VEVENT
DTSTART;TZID=America/Sao_Paulo:20230715T150000
DTEND;TZID=America/Sao_Paulo:20230715T180000
DTSTAMP:20260422T095906
CREATED:20230705T190607Z
LAST-MODIFIED:20230705T190607Z
UID:118267-1689433200-1689444000@blog.livrariadavila.com.br
SUMMARY:ATIVIDADES E BRINCADEIRAS COM TOYSTER
DESCRIPTION: \n  \n \n
URL:https://blog.livrariadavila.com.br/event/atividades-e-brincadeiras-com-toyster-3/
LOCATION:Alameda Lorena\, 1501\, São Paulo\, São Paulo\, 01424-005\, Brasil
CATEGORIES:FÉRIAS NA VILA
END:VEVENT
END:VCALENDAR