BEGIN:VCALENDAR
VERSION:2.0
PRODID:-//VILA - Blog - ECPv4.5.12.2//NONSGML v1.0//EN
CALSCALE:GREGORIAN
METHOD:PUBLISH
X-WR-CALNAME:VILA - Blog
X-ORIGINAL-URL:https://blog.livrariadavila.com.br
X-WR-CALDESC:Events for VILA - Blog
BEGIN:VEVENT
DTSTART;TZID=America/Sao_Paulo:20230714T150000
DTEND;TZID=America/Sao_Paulo:20230714T180000
DTSTAMP:20260422T130446
CREATED:20230705T184615Z
LAST-MODIFIED:20230705T184615Z
UID:118260-1689346800-1689357600@blog.livrariadavila.com.br
SUMMARY:ATIVIDADES E JOGOS COM ARAQUARELA
DESCRIPTION: \n  \n \n
URL:https://blog.livrariadavila.com.br/event/atividades-e-jogos-com-araquarela-2/
LOCATION:R. Treze de Maio\, 1947 - Bela Vista\, São Paulo\, São Paulo\, 01327-900
CATEGORIES:FÉRIAS NA VILA
END:VEVENT
END:VCALENDAR