BEGIN:VCALENDAR
VERSION:2.0
PRODID:-//VILA - Blog - ECPv4.5.12.2//NONSGML v1.0//EN
CALSCALE:GREGORIAN
METHOD:PUBLISH
X-WR-CALNAME:VILA - Blog
X-ORIGINAL-URL:https://blog.livrariadavila.com.br
X-WR-CALDESC:Events for VILA - Blog
BEGIN:VEVENT
DTSTART;TZID=America/Sao_Paulo:20181122T180000
DTEND;TZID=America/Sao_Paulo:20181122T193000
DTSTAMP:20260421T091020
CREATED:20181113T194140Z
LAST-MODIFIED:20181113T194140Z
UID:23510-1542909600-1542915000@blog.livrariadavila.com.br
SUMMARY:BALADA LITERÁRIA 2018
DESCRIPTION: \nHomenagem a ALICE RUIZ e ITAMAR ASSUMPÇÃO – UMA BALADA ROMÂNTICA \nMesa “O que vim fazer aqui” *:\nO escritor\, editor e jornalista piauiense  WELLINGTON SOARES conversa com a poeta\, tradutora e editora inglesa\,  radicada na Bahia\, SARAH REBECCA KERSLEY\, com o poeta\, tradutor para o portunhol e editor cartoneiro DOUGLAS DIEGUES\, e com o poeta e editor DANIEL MINCHONI \n– Abertura oficial com  leitor(a) paraguaio(a) \n
URL:https://blog.livrariadavila.com.br/event/balada-literaria-2018-3/
LOCATION:Rua Fradique Coutinho\, 915 - Pinheiros\, São Paulo\, São Paulo\, 05416-011\, Brasil
GEO:-23.5592934;-46.6892019
X-APPLE-STRUCTURED-LOCATION;VALUE=URI;X-ADDRESS=Rua Fradique Coutinho 915 - Pinheiros São Paulo São Paulo 05416-011 Brasil;X-APPLE-RADIUS=500;X-TITLE=Rua Fradique Coutinho\, 915 - Pinheiros:geo:-46.6892019,-23.5592934
CATEGORIES:BATE-PAPO,PALESTRAS,SESSÕES DE AUTÓGRAFOS
END:VEVENT
END:VCALENDAR