BEGIN:VCALENDAR
VERSION:2.0
PRODID:-//VILA - Blog - ECPv4.5.12.2//NONSGML v1.0//EN
CALSCALE:GREGORIAN
METHOD:PUBLISH
X-WR-CALNAME:VILA - Blog
X-ORIGINAL-URL:https://blog.livrariadavila.com.br
X-WR-CALDESC:Events for VILA - Blog
BEGIN:VEVENT
DTSTART;TZID=America/Sao_Paulo:20181125T120000
DTEND;TZID=America/Sao_Paulo:20181125T140000
DTSTAMP:20260421T034709
CREATED:20181113T194850Z
LAST-MODIFIED:20181113T194850Z
UID:23519-1543147200-1543154400@blog.livrariadavila.com.br
SUMMARY:BALADA LITERÁRIA 2018
DESCRIPTION: \nHomenagem a ALICE RUIZ e ITAMAR ASSUMPÇÃO – UMA BALADA ROMÂNTICA \nMesa “Outras Liras” *:\nCLAUDINEY FERREIRA conversa com a escritora e editora SIMONE PAULINO\, o escritor e compositor  THIAGO CAMELO e o poeta italiano  ROBERTO PARMEGGIANI \n– Abertura oficial com  leitor(a) guatemalteco(a) \n
URL:https://blog.livrariadavila.com.br/event/balada-literaria-2018-6/
LOCATION:Rua Fradique Coutinho\, 915 - Pinheiros\, São Paulo\, São Paulo\, 05416-011\, Brasil
GEO:-23.5592934;-46.6892019
X-APPLE-STRUCTURED-LOCATION;VALUE=URI;X-ADDRESS=Rua Fradique Coutinho 915 - Pinheiros São Paulo São Paulo 05416-011 Brasil;X-APPLE-RADIUS=500;X-TITLE=Rua Fradique Coutinho\, 915 - Pinheiros:geo:-46.6892019,-23.5592934
CATEGORIES:BATE-PAPO,PALESTRAS,SESSÕES DE AUTÓGRAFOS
END:VEVENT
END:VCALENDAR