BEGIN:VCALENDAR
VERSION:2.0
PRODID:-//VILA - Blog - ECPv4.5.12.2//NONSGML v1.0//EN
CALSCALE:GREGORIAN
METHOD:PUBLISH
X-WR-CALNAME:VILA - Blog
X-ORIGINAL-URL:https://blog.livrariadavila.com.br
X-WR-CALDESC:Events for VILA - Blog
BEGIN:VEVENT
DTSTART;TZID=America/Sao_Paulo:20181206T183000
DTEND;TZID=America/Sao_Paulo:20181206T213000
DTSTAMP:20260420T084305
CREATED:20181128T142218Z
LAST-MODIFIED:20181128T142218Z
UID:23706-1544121000-1544131800@blog.livrariadavila.com.br
SUMMARY:Bank valuation and value-based management - precificação de depósitos e de empréstimos\, avaliação de desempenho e gerenciamento de riscos
DESCRIPTION:O objetivo do livro é desenvolver um modelo explícito de avaliação para bancos que possa\, de um lado\, se constituir em um instrumento valioso para analisar decisões que criam valor para os acionistas e\, de outro\, auxiliar na análise de tópicos específicos de administração bancária\, como a questão da transferência de fundos no banco\, a precificação de depósitos e de empréstimos\, a gestão do capital\, a securitização\, a mensuração do risco de taxa de juros\, entre outros.\nA gestão bancária tornou-se mais exigente e complexa nos dias de hoje. Para enfrentar os novos desafios\, o livro do professor Dermine constitui um valioso recurso para a consulta de executivos\, acadêmicos e reguladores interessados no tema. Esperamos que ele tenha o merecido sucesso entre os leitores de língua portuguesa. \nDe Jean Dermine \nEd. Évora \n
URL:https://blog.livrariadavila.com.br/event/bank-valuation-and-value-based-management-precificacao-de-depositos-e-de-emprestimos-avaliacao-de-desempenho-e-gerenciamento-de-riscos/
LOCATION:Av. Juscelino Kubitschek\, 2041 - Itaim Bibi\, São Paulo\, São Paulo\, 04543-011\, Brasil
GEO:-23.5914219;-46.6898224
X-APPLE-STRUCTURED-LOCATION;VALUE=URI;X-ADDRESS=Av. Juscelino Kubitschek 2041 - Itaim Bibi São Paulo São Paulo 04543-011 Brasil;X-APPLE-RADIUS=500;X-TITLE=Av. Juscelino Kubitschek\, 2041 - Itaim Bibi:geo:-46.6898224,-23.5914219
CATEGORIES:LANÇAMENTOS,SESSÕES DE AUTÓGRAFOS
END:VEVENT
END:VCALENDAR